BEGIN:VCALENDAR
VERSION:2.0
PRODID:-//Carnation Elementary PTSA - ECPv6.14.0//NONSGML v1.0//EN
CALSCALE:GREGORIAN
METHOD:PUBLISH
X-WR-CALNAME:Carnation Elementary PTSA
X-ORIGINAL-URL:https://carnationptsa.org
X-WR-CALDESC:Events for Carnation Elementary PTSA
REFRESH-INTERVAL;VALUE=DURATION:PT1H
X-Robots-Tag:noindex
X-PUBLISHED-TTL:PT1H
BEGIN:VTIMEZONE
TZID:America/Los_Angeles
BEGIN:DAYLIGHT
TZOFFSETFROM:-0800
TZOFFSETTO:-0700
TZNAME:PDT
DTSTART:20250309T100000
END:DAYLIGHT
BEGIN:STANDARD
TZOFFSETFROM:-0700
TZOFFSETTO:-0800
TZNAME:PST
DTSTART:20251102T090000
END:STANDARD
END:VTIMEZONE
BEGIN:VEVENT
DTSTART;VALUE=DATE:20250627
DTEND;VALUE=DATE:20250819
DTSTAMP:20260423T230533
CREATED:20250626T224034Z
LAST-MODIFIED:20250818T013601Z
UID:16054-1750982400-1755561599@carnationptsa.org
SUMMARY:Office Closed for Summer
DESCRIPTION:Office is closed for Summer Break\, we will see you in August 🙂
URL:https://carnationptsa.org/event/office-closed-for-summer/
END:VEVENT
BEGIN:VEVENT
DTSTART;TZID=America/Los_Angeles:20250801T095000
DTEND;TZID=America/Los_Angeles:20250801T102000
DTSTAMP:20260423T230533
CREATED:20250617T180644Z
LAST-MODIFIED:20250625T222301Z
UID:15829-1754041800-1754043600@carnationptsa.org
SUMMARY:Choir Rehearsal (4th/5th grade)
DESCRIPTION:I will add a list of participating students once I receive all sign-up forms on Oct. 2nd.\nChoir Calendar:\nOctober 4\nOctober 18\nNovember 1\nNovember 15\nDecember 6\nDecember 20\nJanuary 17 (only 1 rehearsal in January)\nFebruary 7\nFebruary 21\nMarch 7\nMarch 21\nApril 4\nApril 18\nMay 2\nMay 16\nMay 30 (3 rehearsals in May\, 5th Friday)\nJune 6
URL:https://carnationptsa.org/event/choir-rehearsal-4th-5th-grade-2/
LOCATION:Room 147
END:VEVENT
BEGIN:VEVENT
DTSTART;TZID=America/Los_Angeles:20250812T123500
DTEND;TZID=America/Los_Angeles:20250812T131500
DTSTAMP:20260423T230533
CREATED:20250617T180644Z
LAST-MODIFIED:20250625T222301Z
UID:15830-1755002100-1755004500@carnationptsa.org
SUMMARY:Yearbook Club
DESCRIPTION:
URL:https://carnationptsa.org/event/yearbook-club-2/
END:VEVENT
BEGIN:VEVENT
DTSTART;TZID=America/Los_Angeles:20250820T103000
DTEND;TZID=America/Los_Angeles:20250820T113000
DTSTAMP:20260423T230533
CREATED:20250617T180645Z
LAST-MODIFIED:20250820T013602Z
UID:15831-1755685800-1755689400@carnationptsa.org
SUMMARY:Kindergarten Play date
DESCRIPTION:Carnation Elementary PTSA and the Family and Community Engagement Commitee (FACE) invite all incoming 2025-26 Kindergarten students and their families to come meet and play with their new classmates in preparation for this exciting new adventure in the fall.\nPlay dates are casual time for kids to become familiar with the school playground and meet future classmates. Held rain or shine\, usually 1 hour of come and go as you need\, with water and snacks provided by the FACE (PTSA) committee.
URL:https://carnationptsa.org/event/kindergarten-play-date-3/
END:VEVENT
BEGIN:VEVENT
DTSTART;TZID=America/Los_Angeles:20250821T170000
DTEND;TZID=America/Los_Angeles:20250821T190000
DTSTAMP:20260423T230533
CREATED:20250820T220955Z
LAST-MODIFIED:20250820T220955Z
UID:16237-1755795600-1755802800@carnationptsa.org
SUMMARY:RSD Kickoff Night
DESCRIPTION:
URL:https://carnationptsa.org/event/rsd-kickoff-night/
END:VEVENT
BEGIN:VEVENT
DTSTART;TZID=America/Los_Angeles:20250825T160000
DTEND;TZID=America/Los_Angeles:20250825T170000
DTSTAMP:20260423T230533
CREATED:20250617T180645Z
LAST-MODIFIED:20250825T020543Z
UID:15833-1756137600-1756141200@carnationptsa.org
SUMMARY:1st SBC meeting
DESCRIPTION:SBC agenda 8.25.25.docx\nSee agenda above for tomorrow’s meeting! If there are items you want to add\, please bring them.\n  *\nC\nSteve\, Just adding you to this meeting to kick off the Site Based Council for the year.\nLocation – the CE Library unless Benjamin suggests otherwise\nThis is placeholder for the first meeting back. More details to come.\nHere are some general tasks to being at the August Meeting:\n  *\nSelect Chair\, Secretary (& Treasurer to keep the budget spreadsheet).\n  *\nSet meeting dates for the year\n  *\n(Job of Sec/Treas) Communicate current budget with SBC and discuss any budget plans for the year (i.e. does the SBC have a specific plan for use of the funds?  Just make available for staff requests?) (You will also need to set up a budget spreadsheet for the year and confirm numbers with Krista.)\n  *\nReview Collective Bargaining Agreement – are there any contract implications that will necessitate changes in the SBC?\n  *\nReview budget for the year\n  *\nReview bulletin board schedule (WHO WILL DO THIS FOR 2526?)\n  *\nReview the plan of operations (or have members read it?)\n  *\nCalendar important dates for the year (What are those? Include PTSA placeholders and Report Card grade due dates)\n  *\nReview/set up committees\n  *\nLook for a community rep for 2526 & verify parent rep (currently Laura Ancich)
URL:https://carnationptsa.org/event/1st-sbc-meeting/
LOCATION:CE Library
END:VEVENT
BEGIN:VEVENT
DTSTART;VALUE=DATE:20250826
DTEND;VALUE=DATE:20250827
DTSTAMP:20260423T230533
CREATED:20250823T013558Z
LAST-MODIFIED:20250826T022101Z
UID:16271-1756166400-1756252799@carnationptsa.org
SUMMARY:District/ Teacher Directed Day
DESCRIPTION:Synergy Training in the AM at CE
URL:https://carnationptsa.org/event/district-teacher-directed-day/
END:VEVENT
BEGIN:VEVENT
DTSTART;TZID=America/Los_Angeles:20250826T170000
DTEND;TZID=America/Los_Angeles:20250826T180000
DTSTAMP:20260423T230533
CREATED:20250617T180645Z
LAST-MODIFIED:20250826T022101Z
UID:15834-1756227600-1756231200@carnationptsa.org
SUMMARY:Welcome Back BBQ - PTSA
DESCRIPTION:
URL:https://carnationptsa.org/event/back-to-school-event/
LOCATION:Microsoft Teams Meeting
END:VEVENT
BEGIN:VEVENT
DTSTART;TZID=America/Los_Angeles:20250826T170000
DTEND;TZID=America/Los_Angeles:20250826T180000
DTSTAMP:20260423T230533
CREATED:20250722T034708Z
LAST-MODIFIED:20250722T034708Z
UID:16184-1756227600-1756231200@carnationptsa.org
SUMMARY:Back to School BBQ
DESCRIPTION:
URL:https://carnationptsa.org/event/back-to-school-bbq/
END:VEVENT
BEGIN:VEVENT
DTSTART;TZID=America/Los_Angeles:20250827T080000
DTEND;TZID=America/Los_Angeles:20250827T113000
DTSTAMP:20260423T230533
CREATED:20250823T013558Z
LAST-MODIFIED:20250827T022105Z
UID:16272-1756281600-1756294200@carnationptsa.org
SUMMARY:Welcome Back at Admin
DESCRIPTION:LUNCH will be provided by PTSA back at CE\n________________________________________________________________________________\nMicrosoft Teams Need help?\nJoin the meeting now\nMeeting ID: 236 522 757 432 5\nPasscode: kP7BN3X5\n________________________________\nFor organizers: Meeting options\n________________________________________________________________________________
URL:https://carnationptsa.org/event/welcome-back-at-admin/
LOCATION:Microsoft Teams Meeting
END:VEVENT
BEGIN:VEVENT
DTSTART;VALUE=DATE:20250828
DTEND;VALUE=DATE:20250829
DTSTAMP:20260423T230533
CREATED:20250823T013558Z
LAST-MODIFIED:20250828T022121Z
UID:16273-1756339200-1756425599@carnationptsa.org
SUMMARY:Teacher Collaboration Afternoon
DESCRIPTION:
URL:https://carnationptsa.org/event/teacher-collaboration-afternoon/
END:VEVENT
END:VCALENDAR