BEGIN:VCALENDAR
VERSION:2.0
PRODID:-//Carnation Elementary PTSA - ECPv6.14.0//NONSGML v1.0//EN
CALSCALE:GREGORIAN
METHOD:PUBLISH
X-ORIGINAL-URL:https://carnationptsa.org
X-WR-CALDESC:Events for Carnation Elementary PTSA
REFRESH-INTERVAL;VALUE=DURATION:PT1H
X-Robots-Tag:noindex
X-PUBLISHED-TTL:PT1H
BEGIN:VTIMEZONE
TZID:America/Los_Angeles
BEGIN:DAYLIGHT
TZOFFSETFROM:-0800
TZOFFSETTO:-0700
TZNAME:PDT
DTSTART:20250309T100000
END:DAYLIGHT
BEGIN:STANDARD
TZOFFSETFROM:-0700
TZOFFSETTO:-0800
TZNAME:PST
DTSTART:20251102T090000
END:STANDARD
END:VTIMEZONE
BEGIN:VEVENT
DTSTART;VALUE=DATE:20250627
DTEND;VALUE=DATE:20250819
DTSTAMP:20260423T213301
CREATED:20250626T224034Z
LAST-MODIFIED:20250818T013601Z
UID:16054-1750982400-1755561599@carnationptsa.org
SUMMARY:Office Closed for Summer
DESCRIPTION:Office is closed for Summer Break\, we will see you in August 🙂
URL:https://carnationptsa.org/event/office-closed-for-summer/
END:VEVENT
BEGIN:VEVENT
DTSTART;TZID=America/Los_Angeles:20250704T095000
DTEND;TZID=America/Los_Angeles:20250704T102000
DTSTAMP:20260423T213301
CREATED:20250617T180644Z
LAST-MODIFIED:20250625T222301Z
UID:15825-1751622600-1751624400@carnationptsa.org
SUMMARY:Choir Rehearsal (4th/5th grade)
DESCRIPTION:I will add a list of participating students once I receive all sign-up forms on Oct. 2nd.\nChoir Calendar:\nOctober 4\nOctober 18\nNovember 1\nNovember 15\nDecember 6\nDecember 20\nJanuary 17 (only 1 rehearsal in January)\nFebruary 7\nFebruary 21\nMarch 7\nMarch 21\nApril 4\nApril 18\nMay 2\nMay 16\nMay 30 (3 rehearsals in May\, 5th Friday)\nJune 6
URL:https://carnationptsa.org/event/choir-rehearsal-4th-5th-grade/
LOCATION:Room 147
END:VEVENT
BEGIN:VEVENT
DTSTART;TZID=America/Los_Angeles:20250708T123500
DTEND;TZID=America/Los_Angeles:20250708T131500
DTSTAMP:20260423T213301
CREATED:20250617T180644Z
LAST-MODIFIED:20250625T222301Z
UID:15826-1751978100-1751980500@carnationptsa.org
SUMMARY:Yearbook Club
DESCRIPTION:
URL:https://carnationptsa.org/event/yearbook-club/
END:VEVENT
BEGIN:VEVENT
DTSTART;TZID=America/Los_Angeles:20250723T180000
DTEND;TZID=America/Los_Angeles:20250723T190000
DTSTAMP:20260423T213301
CREATED:20250617T180644Z
LAST-MODIFIED:20250724T002046Z
UID:15827-1753293600-1753297200@carnationptsa.org
SUMMARY:Kindergarten Play date
DESCRIPTION:Carnation Elementary PTSA and the Family and Community Engagement Commitee (FACE) invite all incoming 2025-26 Kindergarten students and their families to come meet and play with their new classmates in preparation for this exciting new adventure in the fall.\nPlay dates are casual time for kids to become familiar with the school playground and meet future classmates. Held rain or shine\, usually 1 hour of come and go as you need\, with water and snacks provided by the FACE (PTSA) committee.
URL:https://carnationptsa.org/event/kindergarten-play-date-2/
END:VEVENT
END:VCALENDAR