BEGIN:VCALENDAR
VERSION:2.0
PRODID:-//Carnation Elementary PTSA - ECPv6.14.0//NONSGML v1.0//EN
CALSCALE:GREGORIAN
METHOD:PUBLISH
X-WR-CALNAME:Carnation Elementary PTSA
X-ORIGINAL-URL:https://carnationptsa.org
X-WR-CALDESC:Events for Carnation Elementary PTSA
REFRESH-INTERVAL;VALUE=DURATION:PT1H
X-Robots-Tag:noindex
X-PUBLISHED-TTL:PT1H
BEGIN:VTIMEZONE
TZID:America/Los_Angeles
BEGIN:DAYLIGHT
TZOFFSETFROM:-0800
TZOFFSETTO:-0700
TZNAME:PDT
DTSTART:20250309T100000
END:DAYLIGHT
BEGIN:STANDARD
TZOFFSETFROM:-0700
TZOFFSETTO:-0800
TZNAME:PST
DTSTART:20251102T090000
END:STANDARD
END:VTIMEZONE
BEGIN:VEVENT
DTSTART;VALUE=DATE:20250606
DTEND;VALUE=DATE:20250607
DTSTAMP:20260423T200357
CREATED:20240828T163312Z
LAST-MODIFIED:20240828T163312Z
UID:14430-1749168000-1749254399@carnationptsa.org
SUMMARY:Early release - dismissal @ 2:15
DESCRIPTION:
URL:https://carnationptsa.org/event/early-release-dismissal-215-55/
END:VEVENT
BEGIN:VEVENT
DTSTART;VALUE=DATE:20250606
DTEND;VALUE=DATE:20250607
DTSTAMP:20260423T200357
CREATED:20250601T225803Z
LAST-MODIFIED:20250601T225803Z
UID:15695-1749168000-1749254399@carnationptsa.org
SUMMARY:Donuts with Grownups RSVP Due
DESCRIPTION:Did you get the Donuts with Grownups event on your calendar?\n\n\nIt’s coming up on Thursday\, June 12th!\n\n\n\n\n\nFlyers went home with students last week\, please RSVP by June 6th.\n\n\n\n\n\nPDF Flyer: DONUTS WITH GROWNUPS 2025
URL:https://carnationptsa.org/event/donuts-with-grownups-rsvp-due/
END:VEVENT
BEGIN:VEVENT
DTSTART;TZID=America/Los_Angeles:20250612T080000
DTEND;TZID=America/Los_Angeles:20250612T085000
DTSTAMP:20260423T200357
CREATED:20250529T230055Z
LAST-MODIFIED:20250529T230055Z
UID:15651-1749715200-1749718200@carnationptsa.org
SUMMARY:Donuts with GrownUps
DESCRIPTION:Donuts with Grownups is back! \n\nFlyers went home with students\, please RSVP by June 6th.\n\n\nPDF Flyer: DONUTS WITH GROWNUPS 2025\n\n\n\n\nWe hope to see you there!\n\n 
URL:https://carnationptsa.org/event/donuts-with-grownups/
LOCATION:Multi Purpose Room\, 4950 Tolt Ave.\, Carnation\, WA\, 98014
END:VEVENT
BEGIN:VEVENT
DTSTART;TZID=America/Los_Angeles:20250612T161500
DTEND;TZID=America/Los_Angeles:20250612T171500
DTSTAMP:20260423T200357
CREATED:20250609T222752Z
LAST-MODIFIED:20250609T222752Z
UID:15736-1749744900-1749748500@carnationptsa.org
SUMMARY:Kindergarten Play Date
DESCRIPTION:Carnation Elementary PTSA and the Family and Community Engagement Commitee (FACE) invite all incoming 2025-26 Kindergarten students and their families to come meet and play with their new classmates in preparation for this exciting new adventure in the fall.\n\nPlay dates are casual time for kids to become familiar with the school playground and meet future classmates. Held rain or shine\, usually 1 hour of come and go as you need\, with water and snacks provided by the FACE (PTSA) committee.
URL:https://carnationptsa.org/event/kindergarten-play-date/
END:VEVENT
BEGIN:VEVENT
DTSTART;VALUE=DATE:20250617
DTEND;VALUE=DATE:20250618
DTSTAMP:20260423T200357
CREATED:20250617T180644Z
LAST-MODIFIED:20250617T180647Z
UID:15817-1750118400-1750204799@carnationptsa.org
SUMMARY:Moving Up Day
DESCRIPTION:
URL:https://carnationptsa.org/event/moving-up-day/
END:VEVENT
BEGIN:VEVENT
DTSTART;TZID=America/Los_Angeles:20250617T150000
DTEND;TZID=America/Los_Angeles:20250617T154000
DTSTAMP:20260423T200357
CREATED:20250617T180644Z
LAST-MODIFIED:20250617T180647Z
UID:15819-1750172400-1750174800@carnationptsa.org
SUMMARY:Move Up Day
DESCRIPTION:Move Up Day Plan2425.docx\n________________________________________________________________________________\nMicrosoft Teams Need help?\nJoin the meeting now\nMeeting ID: 273 841 670 445 3\nPasscode: TT326Zb3\n________________________________\nDial in by phone\n+1 469-848-0135\,\,733443531# United States\, Seagoville\nFind a local number\nPhone conference ID: 733 443 531#\nFor organizers: Meeting options | Reset dial-in PIN\n________________________________________________________________________________
URL:https://carnationptsa.org/event/move-up-day/
LOCATION:Microsoft Teams Meeting
END:VEVENT
BEGIN:VEVENT
DTSTART;VALUE=DATE:20250618
DTEND;VALUE=DATE:20250619
DTSTAMP:20260423T200357
CREATED:20250602T023012Z
LAST-MODIFIED:20250602T023012Z
UID:15707-1750204800-1750291199@carnationptsa.org
SUMMARY:Spring Fling/Field Day
DESCRIPTION:
URL:https://carnationptsa.org/event/spring-fling-field-day/
END:VEVENT
BEGIN:VEVENT
DTSTART;VALUE=DATE:20250618
DTEND;VALUE=DATE:20250619
DTSTAMP:20260423T200357
CREATED:20250617T180644Z
LAST-MODIFIED:20250618T133311Z
UID:15820-1750204800-1750291199@carnationptsa.org
SUMMARY:Field Day
DESCRIPTION:
URL:https://carnationptsa.org/event/field-day/
END:VEVENT
BEGIN:VEVENT
DTSTART;TZID=America/Los_Angeles:20250618T095000
DTEND;TZID=America/Los_Angeles:20250618T103500
DTSTAMP:20260423T200357
CREATED:20250617T180644Z
LAST-MODIFIED:20250618T133311Z
UID:15821-1750240200-1750242900@carnationptsa.org
SUMMARY:1st Grade walking field trip to Yellow Park
DESCRIPTION:
URL:https://carnationptsa.org/event/1st-grade-walking-field-trip-to-yellow-park/
END:VEVENT
BEGIN:VEVENT
DTSTART;VALUE=DATE:20250619
DTEND;VALUE=DATE:20250620
DTSTAMP:20260423T200357
CREATED:20250617T180644Z
LAST-MODIFIED:20250619T222246Z
UID:15822-1750291200-1750377599@carnationptsa.org
SUMMARY:NO SCHOOL - Juneteenth
DESCRIPTION:
URL:https://carnationptsa.org/event/no-school-juneteenth/
END:VEVENT
BEGIN:VEVENT
DTSTART;TZID=America/Los_Angeles:20250620T124500
DTEND;TZID=America/Los_Angeles:20250620T130000
DTSTAMP:20260423T200357
CREATED:20250618T133311Z
LAST-MODIFIED:20250619T222246Z
UID:15925-1750423500-1750424400@carnationptsa.org
SUMMARY:12:45pm EARLY DISMISSAL
DESCRIPTION:
URL:https://carnationptsa.org/event/1245pm-early-dismissal/
END:VEVENT
BEGIN:VEVENT
DTSTART;TZID=America/Los_Angeles:20250620T124500
DTEND;TZID=America/Los_Angeles:20250620T130000
DTSTAMP:20260423T200357
CREATED:20250618T133312Z
LAST-MODIFIED:20250618T133312Z
UID:15926-1750423500-1750424400@carnationptsa.org
SUMMARY:12:45pm EARLY DISMISSAL
DESCRIPTION:
URL:https://carnationptsa.org/event/1245pm-early-dismissal-2/
END:VEVENT
BEGIN:VEVENT
DTSTART;VALUE=DATE:20250627
DTEND;VALUE=DATE:20250819
DTSTAMP:20260423T200357
CREATED:20250626T224034Z
LAST-MODIFIED:20250818T013601Z
UID:16054-1750982400-1755561599@carnationptsa.org
SUMMARY:Office Closed for Summer
DESCRIPTION:Office is closed for Summer Break\, we will see you in August 🙂
URL:https://carnationptsa.org/event/office-closed-for-summer/
END:VEVENT
END:VCALENDAR