BEGIN:VCALENDAR
VERSION:2.0
PRODID:-//Carnation Elementary PTSA - ECPv6.14.0//NONSGML v1.0//EN
CALSCALE:GREGORIAN
METHOD:PUBLISH
X-WR-CALNAME:Carnation Elementary PTSA
X-ORIGINAL-URL:https://carnationptsa.org
X-WR-CALDESC:Events for Carnation Elementary PTSA
REFRESH-INTERVAL;VALUE=DURATION:PT1H
X-Robots-Tag:noindex
X-PUBLISHED-TTL:PT1H
BEGIN:VTIMEZONE
TZID:America/Los_Angeles
BEGIN:DAYLIGHT
TZOFFSETFROM:-0800
TZOFFSETTO:-0700
TZNAME:PDT
DTSTART:20250309T100000
END:DAYLIGHT
BEGIN:STANDARD
TZOFFSETFROM:-0700
TZOFFSETTO:-0800
TZNAME:PST
DTSTART:20251102T090000
END:STANDARD
END:VTIMEZONE
BEGIN:VEVENT
DTSTART;TZID=America/Los_Angeles:20250403T173000
DTEND;TZID=America/Los_Angeles:20250403T183000
DTSTAMP:20260423T172457
CREATED:20250320T030717Z
LAST-MODIFIED:20250320T030717Z
UID:15348-1743701400-1743705000@carnationptsa.org
SUMMARY:Kindergarten Parent Informational Meeting
DESCRIPTION:PDF Flyer:https://carnationptsa.org/…/Kindy-registration-25-26.pdf\n\n\nRegister your student online: https://www.ces.rsd407.org/kreg
URL:https://carnationptsa.org/event/kindergarten-parent-informational-meeting/
LOCATION:CE Library
CATEGORIES:School Event
END:VEVENT
BEGIN:VEVENT
DTSTART;VALUE=DATE:20250404
DTEND;VALUE=DATE:20250405
DTSTAMP:20260423T172457
CREATED:20240828T163311Z
LAST-MODIFIED:20240828T163311Z
UID:14415-1743724800-1743811199@carnationptsa.org
SUMMARY:Early release - dismissal @ 2:15
DESCRIPTION:
URL:https://carnationptsa.org/event/early-release-dismissal-215-49/
END:VEVENT
BEGIN:VEVENT
DTSTART;VALUE=DATE:20250404
DTEND;VALUE=DATE:20250405
DTSTAMP:20260423T172457
CREATED:20240828T163311Z
LAST-MODIFIED:20240828T163311Z
UID:14416-1743724800-1743811199@carnationptsa.org
SUMMARY:End of 3rd quarter
DESCRIPTION:
URL:https://carnationptsa.org/event/end-of-3rd-quarter-2/
END:VEVENT
BEGIN:VEVENT
DTSTART;VALUE=DATE:20250407
DTEND;VALUE=DATE:20250408
DTSTAMP:20260423T172457
CREATED:20240828T163311Z
LAST-MODIFIED:20240828T163311Z
UID:14417-1743984000-1744070399@carnationptsa.org
SUMMARY:Spring break
DESCRIPTION:
URL:https://carnationptsa.org/event/spring-break-6/
END:VEVENT
BEGIN:VEVENT
DTSTART;VALUE=DATE:20250408
DTEND;VALUE=DATE:20250409
DTSTAMP:20260423T172457
CREATED:20240828T163311Z
LAST-MODIFIED:20240828T163311Z
UID:14418-1744070400-1744156799@carnationptsa.org
SUMMARY:Spring break
DESCRIPTION:
URL:https://carnationptsa.org/event/spring-break-7/
END:VEVENT
BEGIN:VEVENT
DTSTART;VALUE=DATE:20250409
DTEND;VALUE=DATE:20250410
DTSTAMP:20260423T172457
CREATED:20240828T163311Z
LAST-MODIFIED:20240828T163311Z
UID:14419-1744156800-1744243199@carnationptsa.org
SUMMARY:Spring break
DESCRIPTION:
URL:https://carnationptsa.org/event/spring-break-8/
END:VEVENT
BEGIN:VEVENT
DTSTART;VALUE=DATE:20250410
DTEND;VALUE=DATE:20250411
DTSTAMP:20260423T172457
CREATED:20240828T163311Z
LAST-MODIFIED:20240828T163311Z
UID:14421-1744243200-1744329599@carnationptsa.org
SUMMARY:Spring break
DESCRIPTION:
URL:https://carnationptsa.org/event/spring-break-10/
END:VEVENT
BEGIN:VEVENT
DTSTART;VALUE=DATE:20250411
DTEND;VALUE=DATE:20250412
DTSTAMP:20260423T172457
CREATED:20240828T163311Z
LAST-MODIFIED:20240828T163311Z
UID:14420-1744329600-1744415999@carnationptsa.org
SUMMARY:Spring break
DESCRIPTION:
URL:https://carnationptsa.org/event/spring-break-9/
END:VEVENT
BEGIN:VEVENT
DTSTART;TZID=America/Los_Angeles:20250415T080000
DTEND;TZID=America/Los_Angeles:20250415T170000
DTSTAMP:20260423T172457
CREATED:20250415T234914Z
LAST-MODIFIED:20250415T234914Z
UID:15470-1744704000-1744736400@carnationptsa.org
SUMMARY:Class Picture Day
DESCRIPTION:
URL:https://carnationptsa.org/event/class-picture-day-2/
CATEGORIES:School Event
END:VEVENT
BEGIN:VEVENT
DTSTART;VALUE=DATE:20250418
DTEND;VALUE=DATE:20250419
DTSTAMP:20260423T172457
CREATED:20240828T163312Z
LAST-MODIFIED:20240828T163312Z
UID:14422-1744934400-1745020799@carnationptsa.org
SUMMARY:Early release - dismissal @ 2:15
DESCRIPTION:
URL:https://carnationptsa.org/event/early-release-dismissal-215-50/
END:VEVENT
BEGIN:VEVENT
DTSTART;VALUE=DATE:20250425
DTEND;VALUE=DATE:20250426
DTSTAMP:20260423T172457
CREATED:20240828T163312Z
LAST-MODIFIED:20240828T163312Z
UID:14423-1745539200-1745625599@carnationptsa.org
SUMMARY:Early release - dismissal @ 2:15
DESCRIPTION:
URL:https://carnationptsa.org/event/early-release-dismissal-215-51/
END:VEVENT
BEGIN:VEVENT
DTSTART;TZID=America/Los_Angeles:20250430T080000
DTEND;TZID=America/Los_Angeles:20250430T170000
DTSTAMP:20260423T172457
CREATED:20250428T171637Z
LAST-MODIFIED:20250429T163842Z
UID:15520-1746000000-1746032400@carnationptsa.org
SUMMARY:Pizza Pre-Orders Due
DESCRIPTION:LAST CALL! Don’t miss out on pre-ordering pizza for your family to enjoy before the Spring Dance starts! \n\n\n\n\nOrder online OR turn in the order form that was sent home with your student.\n\n\n\n\n\nOrder online here: https://ceptsa.givebacks.com/store?limit=21&live=true\n\nOrder Form: Pre-Dance Pizza Party
URL:https://carnationptsa.org/event/pizza-pre-orders-due/
CATEGORIES:PTSA Sponsored Events
END:VEVENT
END:VCALENDAR