BEGIN:VCALENDAR
VERSION:2.0
PRODID:-//Carnation Elementary PTSA - ECPv6.14.0//NONSGML v1.0//EN
CALSCALE:GREGORIAN
METHOD:PUBLISH
X-WR-CALNAME:Carnation Elementary PTSA
X-ORIGINAL-URL:https://carnationptsa.org
X-WR-CALDESC:Events for Carnation Elementary PTSA
REFRESH-INTERVAL;VALUE=DURATION:PT1H
X-Robots-Tag:noindex
X-PUBLISHED-TTL:PT1H
BEGIN:VTIMEZONE
TZID:America/Los_Angeles
BEGIN:DAYLIGHT
TZOFFSETFROM:-0800
TZOFFSETTO:-0700
TZNAME:PDT
DTSTART:20250309T100000
END:DAYLIGHT
BEGIN:STANDARD
TZOFFSETFROM:-0700
TZOFFSETTO:-0800
TZNAME:PST
DTSTART:20251102T090000
END:STANDARD
END:VTIMEZONE
BEGIN:VEVENT
DTSTART;VALUE=DATE:20250207
DTEND;VALUE=DATE:20250208
DTSTAMP:20260423T172457
CREATED:20240828T163310Z
LAST-MODIFIED:20240828T163310Z
UID:14406-1738886400-1738972799@carnationptsa.org
SUMMARY:Early release - dismissal @ 2:15
DESCRIPTION:
URL:https://carnationptsa.org/event/early-release-dismissal-215-44/
END:VEVENT
BEGIN:VEVENT
DTSTART;VALUE=DATE:20250207
DTEND;VALUE=DATE:20250208
DTSTAMP:20260423T172457
CREATED:20250204T173112Z
LAST-MODIFIED:20250204T173112Z
UID:15155-1738886400-1738972799@carnationptsa.org
SUMMARY:Krispy Kreme Orders Due
DESCRIPTION:SWEETS for your SWEETS\, right in time for Valentine’s Day!!\n\n\nThe order form came home in Backpack Mail last week. If you need to reprint\, check out the pdf below!\n\n\nBe sure to return the form to your child’s classroom or the office by Friday\, February 7th.\n\n\nDoughnuts will be available for pickup at the school on Thursday\, February 13th.\n\nOrder Form: Krispy Kreme
URL:https://carnationptsa.org/event/krispy-kreme-orders-due/
CATEGORIES:PTSA Sponsored Events
END:VEVENT
BEGIN:VEVENT
DTSTART;VALUE=DATE:20250213
DTEND;VALUE=DATE:20250214
DTSTAMP:20260423T172457
CREATED:20250212T184541Z
LAST-MODIFIED:20250212T184541Z
UID:15180-1739404800-1739491199@carnationptsa.org
SUMMARY:Krispy Kreme Pickup
DESCRIPTION:Carnation Elementary families! Your doughnut pick up is Thursday 2/13 after school. Please coordinate with us if you need to pick up at a different time.\n\n\n\nWe will *not* be able to leave them at the school this year since there is no school on Friday 2/14.
URL:https://carnationptsa.org/event/krispy-kreme-pickup/
CATEGORIES:PTSA Sponsored Events
END:VEVENT
BEGIN:VEVENT
DTSTART;VALUE=DATE:20250214
DTEND;VALUE=DATE:20250215
DTSTAMP:20260423T172457
CREATED:20240828T163310Z
LAST-MODIFIED:20240828T163310Z
UID:14407-1739491200-1739577599@carnationptsa.org
SUMMARY:No school - President's Day weekend
DESCRIPTION:
URL:https://carnationptsa.org/event/no-school-presidents-day-weekend-3/
END:VEVENT
BEGIN:VEVENT
DTSTART;VALUE=DATE:20250217
DTEND;VALUE=DATE:20250218
DTSTAMP:20260423T172457
CREATED:20240828T163310Z
LAST-MODIFIED:20240828T163310Z
UID:14408-1739750400-1739836799@carnationptsa.org
SUMMARY:No school - President's Day weekend
DESCRIPTION:
URL:https://carnationptsa.org/event/no-school-presidents-day-weekend-4/
END:VEVENT
BEGIN:VEVENT
DTSTART;TZID=America/Los_Angeles:20250220T170000
DTEND;TZID=America/Los_Angeles:20250220T180000
DTSTAMP:20260423T172457
CREATED:20250212T184411Z
LAST-MODIFIED:20250212T184411Z
UID:15178-1740070800-1740074400@carnationptsa.org
SUMMARY:General Membership Meeting
DESCRIPTION:Our next GMM is coming up on February 20th.\nSpecialist teachers\, Mr. Heimfeld and Mrs. Conerly\, will be giving presentations about their classes!\nWe are excited to hear from them and see YOU there!
URL:https://carnationptsa.org/event/general-membership-meeting-4/
LOCATION:CE Library
END:VEVENT
BEGIN:VEVENT
DTSTART;VALUE=DATE:20250221
DTEND;VALUE=DATE:20250222
DTSTAMP:20260423T172457
CREATED:20240828T163310Z
LAST-MODIFIED:20240828T163310Z
UID:14409-1740096000-1740182399@carnationptsa.org
SUMMARY:Full day Friday - dismissal @ 3:45
DESCRIPTION:
URL:https://carnationptsa.org/event/full-day-friday-dismissal-345-6/
END:VEVENT
BEGIN:VEVENT
DTSTART;VALUE=DATE:20250228
DTEND;VALUE=DATE:20250301
DTSTAMP:20260423T172457
CREATED:20240828T163310Z
LAST-MODIFIED:20240828T163310Z
UID:14410-1740700800-1740787199@carnationptsa.org
SUMMARY:Early release - dismissal @ 2:15
DESCRIPTION:
URL:https://carnationptsa.org/event/early-release-dismissal-215-45/
END:VEVENT
END:VCALENDAR