BEGIN:VCALENDAR
VERSION:2.0
PRODID:-//Carnation Elementary PTSA - ECPv6.14.0//NONSGML v1.0//EN
CALSCALE:GREGORIAN
METHOD:PUBLISH
X-WR-CALNAME:Carnation Elementary PTSA
X-ORIGINAL-URL:https://carnationptsa.org
X-WR-CALDESC:Events for Carnation Elementary PTSA
REFRESH-INTERVAL;VALUE=DURATION:PT1H
X-Robots-Tag:noindex
X-PUBLISHED-TTL:PT1H
BEGIN:VTIMEZONE
TZID:America/Los_Angeles
BEGIN:DAYLIGHT
TZOFFSETFROM:-0800
TZOFFSETTO:-0700
TZNAME:PDT
DTSTART:20240310T100000
END:DAYLIGHT
BEGIN:STANDARD
TZOFFSETFROM:-0700
TZOFFSETTO:-0800
TZNAME:PST
DTSTART:20241103T090000
END:STANDARD
END:VTIMEZONE
BEGIN:VEVENT
DTSTART;VALUE=DATE:20241206
DTEND;VALUE=DATE:20241207
DTSTAMP:20260423T200355
CREATED:20240828T163308Z
LAST-MODIFIED:20240828T163308Z
UID:14387-1733443200-1733529599@carnationptsa.org
SUMMARY:Early release - dismissal @ 2:15
DESCRIPTION:
URL:https://carnationptsa.org/event/early-release-dismissal-215-39/
END:VEVENT
BEGIN:VEVENT
DTSTART;TZID=America/Los_Angeles:20241206T160000
DTEND;TZID=America/Los_Angeles:20241206T190000
DTSTAMP:20260423T200355
CREATED:20241204T213635Z
LAST-MODIFIED:20241204T213635Z
UID:15018-1733500800-1733511600@carnationptsa.org
SUMMARY:Holiday Market
DESCRIPTION:The Carnation Elementary Holiday Market is on Friday 12/6!\nThere will be FREE stuff for the kids to do\, vendors to shop from\, and lots of holiday cheer!\nWe can’t wait to see you there!
URL:https://carnationptsa.org/event/holiday-market/
LOCATION:Multi Purpose Room\, 4950 Tolt Ave.\, Carnation\, WA\, 98014
CATEGORIES:PTSA Sponsored Events
END:VEVENT
BEGIN:VEVENT
DTSTART;VALUE=DATE:20241213
DTEND;VALUE=DATE:20241214
DTSTAMP:20260423T200355
CREATED:20240828T163308Z
LAST-MODIFIED:20240828T163308Z
UID:14388-1734048000-1734134399@carnationptsa.org
SUMMARY:Early release - dismissal @ 2:15
DESCRIPTION:
URL:https://carnationptsa.org/event/early-release-dismissal-215-40/
END:VEVENT
BEGIN:VEVENT
DTSTART;VALUE=DATE:20241213
DTEND;VALUE=DATE:20241214
DTSTAMP:20260423T200355
CREATED:20241210T040030Z
LAST-MODIFIED:20241210T040030Z
UID:15043-1734048000-1734134399@carnationptsa.org
SUMMARY:Popcorn Friday
DESCRIPTION:
URL:https://carnationptsa.org/event/popcorn-friday-4/
CATEGORIES:PTSA Sponsored Events
END:VEVENT
BEGIN:VEVENT
DTSTART;VALUE=DATE:20241220
DTEND;VALUE=DATE:20241221
DTSTAMP:20260423T200355
CREATED:20240828T163308Z
LAST-MODIFIED:20240828T163308Z
UID:14389-1734652800-1734739199@carnationptsa.org
SUMMARY:Early release - dismissal @ 2:15
DESCRIPTION:
URL:https://carnationptsa.org/event/early-release-dismissal-215-41/
END:VEVENT
BEGIN:VEVENT
DTSTART;VALUE=DATE:20241220
DTEND;VALUE=DATE:20241221
DTSTAMP:20260423T200355
CREATED:20241210T180451Z
LAST-MODIFIED:20241211T231314Z
UID:15051-1734652800-1734739199@carnationptsa.org
SUMMARY:Registration Due for Cupids Clay Cafe
DESCRIPTION:Register now for Cupid’s Clay Cafe!\n\n\nPTSA is bringing back this much-loved event and we hope to see YOU there! Students + siblings can glaze a FREE plate! We’ll fire the ceramics and return them to students before Valentine’s Day.\n\n\nAnd 5th graders will be there selling baked goods to raise funds for their end-of-year party!\n\n\nRegistration is required by the end of day on December 16th.\n\n\nTurn in the flyer (and please consider filling a volunteer spot!) or register online here: https://carnationptsa.org/cupids-clay-cafe/
URL:https://carnationptsa.org/event/15051/
CATEGORIES:PTSA Sponsored Events
END:VEVENT
BEGIN:VEVENT
DTSTART;VALUE=DATE:20241223
DTEND;VALUE=DATE:20241224
DTSTAMP:20260423T200355
CREATED:20240828T163308Z
LAST-MODIFIED:20240828T163308Z
UID:14390-1734912000-1734998399@carnationptsa.org
SUMMARY:Winter break
DESCRIPTION:
URL:https://carnationptsa.org/event/winter-break-13/
END:VEVENT
BEGIN:VEVENT
DTSTART;VALUE=DATE:20241224
DTEND;VALUE=DATE:20241225
DTSTAMP:20260423T200355
CREATED:20240828T163309Z
LAST-MODIFIED:20240828T163309Z
UID:14392-1734998400-1735084799@carnationptsa.org
SUMMARY:Winter break
DESCRIPTION:
URL:https://carnationptsa.org/event/winter-break-15/
END:VEVENT
BEGIN:VEVENT
DTSTART;VALUE=DATE:20241225
DTEND;VALUE=DATE:20241226
DTSTAMP:20260423T200355
CREATED:20240828T163309Z
LAST-MODIFIED:20240828T163309Z
UID:14391-1735084800-1735171199@carnationptsa.org
SUMMARY:Winter break
DESCRIPTION:
URL:https://carnationptsa.org/event/winter-break-14/
END:VEVENT
BEGIN:VEVENT
DTSTART;VALUE=DATE:20241226
DTEND;VALUE=DATE:20241227
DTSTAMP:20260423T200355
CREATED:20240828T163309Z
LAST-MODIFIED:20240828T163309Z
UID:14393-1735171200-1735257599@carnationptsa.org
SUMMARY:Winter break
DESCRIPTION:
URL:https://carnationptsa.org/event/winter-break-16/
END:VEVENT
BEGIN:VEVENT
DTSTART;VALUE=DATE:20241227
DTEND;VALUE=DATE:20241228
DTSTAMP:20260423T200355
CREATED:20240828T163309Z
LAST-MODIFIED:20240828T163309Z
UID:14394-1735257600-1735343999@carnationptsa.org
SUMMARY:Winter break
DESCRIPTION:
URL:https://carnationptsa.org/event/winter-break-17/
END:VEVENT
BEGIN:VEVENT
DTSTART;VALUE=DATE:20241230
DTEND;VALUE=DATE:20241231
DTSTAMP:20260423T200355
CREATED:20240828T163309Z
LAST-MODIFIED:20240828T163309Z
UID:14395-1735516800-1735603199@carnationptsa.org
SUMMARY:Winter break
DESCRIPTION:
URL:https://carnationptsa.org/event/winter-break-18/
END:VEVENT
BEGIN:VEVENT
DTSTART;VALUE=DATE:20241231
DTEND;VALUE=DATE:20250101
DTSTAMP:20260423T200355
CREATED:20240828T163309Z
LAST-MODIFIED:20240828T163309Z
UID:14396-1735603200-1735689599@carnationptsa.org
SUMMARY:Winter break
DESCRIPTION:
URL:https://carnationptsa.org/event/winter-break-19/
END:VEVENT
END:VCALENDAR