BEGIN:VCALENDAR
VERSION:2.0
PRODID:-//Carnation Elementary PTSA - ECPv6.14.0//NONSGML v1.0//EN
CALSCALE:GREGORIAN
METHOD:PUBLISH
X-ORIGINAL-URL:https://carnationptsa.org
X-WR-CALDESC:Events for Carnation Elementary PTSA
REFRESH-INTERVAL;VALUE=DURATION:PT1H
X-Robots-Tag:noindex
X-PUBLISHED-TTL:PT1H
BEGIN:VTIMEZONE
TZID:America/Los_Angeles
BEGIN:DAYLIGHT
TZOFFSETFROM:-0800
TZOFFSETTO:-0700
TZNAME:PDT
DTSTART:20260308T100000
END:DAYLIGHT
BEGIN:STANDARD
TZOFFSETFROM:-0700
TZOFFSETTO:-0800
TZNAME:PST
DTSTART:20261101T090000
END:STANDARD
END:VTIMEZONE
BEGIN:VEVENT
DTSTART;TZID=America/Los_Angeles:20260311T160000
DTEND;TZID=America/Los_Angeles:20260311T164500
DTSTAMP:20260420T203111
CREATED:20250919T043653Z
LAST-MODIFIED:20250922T043601Z
UID:17231-1773244800-1773247500@carnationptsa.org
SUMMARY:Ignite Dance Group
DESCRIPTION:
URL:https://carnationptsa.org/event/ignite-dance-group-24/
LOCATION:GYM
END:VEVENT
BEGIN:VEVENT
DTSTART;TZID=America/Los_Angeles:20260311T173000
DTEND;TZID=America/Los_Angeles:20260311T210000
DTSTAMP:20260420T203111
CREATED:20250911T032122Z
LAST-MODIFIED:20250922T043601Z
UID:16891-1773250200-1773262800@carnationptsa.org
SUMMARY:Cedarcrest Select Basketball
DESCRIPTION:
URL:https://carnationptsa.org/event/cedarcrest-select-basketball-62/
LOCATION:GYM
END:VEVENT
BEGIN:VEVENT
DTSTART;TZID=America/Los_Angeles:20260312T080000
DTEND;TZID=America/Los_Angeles:20260312T091500
DTSTAMP:20260420T203111
CREATED:20250911T032122Z
LAST-MODIFIED:20250922T043601Z
UID:16892-1773302400-1773306900@carnationptsa.org
SUMMARY:Theater Club PTSA -little hands on art
DESCRIPTION:
URL:https://carnationptsa.org/event/theater-club-ptsa-little-hands-on-art-18/
LOCATION:MPR
END:VEVENT
BEGIN:VEVENT
DTSTART;TZID=America/Los_Angeles:20260312T143000
DTEND;TZID=America/Los_Angeles:20260312T150000
DTSTAMP:20260420T203111
CREATED:20250625T222304Z
LAST-MODIFIED:20250910T032117Z
UID:16031-1773325800-1773327600@carnationptsa.org
SUMMARY:Valley View Volleyball
DESCRIPTION:
URL:https://carnationptsa.org/event/valley-view-volleyball-33/
LOCATION:CE Gym
END:VEVENT
BEGIN:VEVENT
DTSTART;TZID=America/Los_Angeles:20260312T173000
DTEND;TZID=America/Los_Angeles:20260312T210000
DTSTAMP:20260420T203111
CREATED:20250911T032122Z
LAST-MODIFIED:20250922T043601Z
UID:16893-1773336600-1773349200@carnationptsa.org
SUMMARY:Valley View Volleyball
DESCRIPTION:
URL:https://carnationptsa.org/event/valley-view-volleyball-85/
LOCATION:CE Gym
END:VEVENT
BEGIN:VEVENT
DTSTART;TZID=America/Los_Angeles:20260313T173000
DTEND;TZID=America/Los_Angeles:20260313T210000
DTSTAMP:20260420T203111
CREATED:20250911T032122Z
LAST-MODIFIED:20250922T043601Z
UID:16894-1773423000-1773435600@carnationptsa.org
SUMMARY:Cedarcrest Select Basketball
DESCRIPTION:
URL:https://carnationptsa.org/event/cedarcrest-select-basketball-63/
LOCATION:GYM
END:VEVENT
BEGIN:VEVENT
DTSTART;TZID=America/Los_Angeles:20260316T173000
DTEND;TZID=America/Los_Angeles:20260316T210000
DTSTAMP:20260420T203111
CREATED:20250911T032122Z
LAST-MODIFIED:20250922T043601Z
UID:16895-1773682200-1773694800@carnationptsa.org
SUMMARY:Cedarcrest Select Basketball
DESCRIPTION:
URL:https://carnationptsa.org/event/cedarcrest-select-basketball-64/
LOCATION:GYM
END:VEVENT
BEGIN:VEVENT
DTSTART;TZID=America/Los_Angeles:20260317T080000
DTEND;TZID=America/Los_Angeles:20260317T083000
DTSTAMP:20260420T203111
CREATED:20250911T032122Z
LAST-MODIFIED:20250922T043601Z
UID:16896-1773734400-1773736200@carnationptsa.org
SUMMARY:Orlov Chess Club- PTSA
DESCRIPTION:
URL:https://carnationptsa.org/event/orlov-chess-club-ptsa-24/
LOCATION:MPR
END:VEVENT
BEGIN:VEVENT
DTSTART;TZID=America/Los_Angeles:20260317T143000
DTEND;TZID=America/Los_Angeles:20260317T150000
DTSTAMP:20260420T203111
CREATED:20250625T222304Z
LAST-MODIFIED:20250910T032117Z
UID:16032-1773757800-1773759600@carnationptsa.org
SUMMARY:Valley View Volleyball
DESCRIPTION:
URL:https://carnationptsa.org/event/valley-view-volleyball-34/
LOCATION:CE Gym
END:VEVENT
BEGIN:VEVENT
DTSTART;TZID=America/Los_Angeles:20260317T173000
DTEND;TZID=America/Los_Angeles:20260317T210000
DTSTAMP:20260420T203111
CREATED:20250911T032122Z
LAST-MODIFIED:20250922T043601Z
UID:16897-1773768600-1773781200@carnationptsa.org
SUMMARY:Valley View Volleyball
DESCRIPTION:
URL:https://carnationptsa.org/event/valley-view-volleyball-86/
LOCATION:CE Gym
END:VEVENT
BEGIN:VEVENT
DTSTART;TZID=America/Los_Angeles:20260318T080000
DTEND;TZID=America/Los_Angeles:20260318T090000
DTSTAMP:20260420T203111
CREATED:20250911T032123Z
LAST-MODIFIED:20250922T043601Z
UID:16898-1773820800-1773824400@carnationptsa.org
SUMMARY:PTSA-Ash Art
DESCRIPTION:
URL:https://carnationptsa.org/event/ptsa-ash-art-24/
LOCATION:pottable 4
END:VEVENT
BEGIN:VEVENT
DTSTART;TZID=America/Los_Angeles:20260318T160000
DTEND;TZID=America/Los_Angeles:20260318T164500
DTSTAMP:20260420T203111
CREATED:20250919T043655Z
LAST-MODIFIED:20250922T043601Z
UID:17232-1773849600-1773852300@carnationptsa.org
SUMMARY:Ignite Dance Group
DESCRIPTION:
URL:https://carnationptsa.org/event/ignite-dance-group-25/
LOCATION:GYM
END:VEVENT
BEGIN:VEVENT
DTSTART;TZID=America/Los_Angeles:20260318T173000
DTEND;TZID=America/Los_Angeles:20260318T210000
DTSTAMP:20260420T203111
CREATED:20250911T032123Z
LAST-MODIFIED:20250922T043601Z
UID:16899-1773855000-1773867600@carnationptsa.org
SUMMARY:Cedarcrest Select Basketball
DESCRIPTION:
URL:https://carnationptsa.org/event/cedarcrest-select-basketball-65/
LOCATION:GYM
END:VEVENT
BEGIN:VEVENT
DTSTART;TZID=America/Los_Angeles:20260319T080000
DTEND;TZID=America/Los_Angeles:20260319T091500
DTSTAMP:20260420T203111
CREATED:20250911T032123Z
LAST-MODIFIED:20250922T043601Z
UID:16900-1773907200-1773911700@carnationptsa.org
SUMMARY:Theater Club PTSA -little hands on art
DESCRIPTION:
URL:https://carnationptsa.org/event/theater-club-ptsa-little-hands-on-art-19/
LOCATION:MPR
END:VEVENT
BEGIN:VEVENT
DTSTART;TZID=America/Los_Angeles:20260319T143000
DTEND;TZID=America/Los_Angeles:20260319T150000
DTSTAMP:20260420T203111
CREATED:20250625T222304Z
LAST-MODIFIED:20250910T032117Z
UID:16033-1773930600-1773932400@carnationptsa.org
SUMMARY:Valley View Volleyball
DESCRIPTION:
URL:https://carnationptsa.org/event/valley-view-volleyball-35/
LOCATION:CE Gym
END:VEVENT
BEGIN:VEVENT
DTSTART;TZID=America/Los_Angeles:20260319T173000
DTEND;TZID=America/Los_Angeles:20260319T210000
DTSTAMP:20260420T203111
CREATED:20250911T032123Z
LAST-MODIFIED:20250922T043603Z
UID:16901-1773941400-1773954000@carnationptsa.org
SUMMARY:Valley View Volleyball
DESCRIPTION:
URL:https://carnationptsa.org/event/valley-view-volleyball-87/
LOCATION:CE Gym
END:VEVENT
BEGIN:VEVENT
DTSTART;TZID=America/Los_Angeles:20260320T173000
DTEND;TZID=America/Los_Angeles:20260320T210000
DTSTAMP:20260420T203111
CREATED:20250911T032123Z
LAST-MODIFIED:20250922T043604Z
UID:16902-1774027800-1774040400@carnationptsa.org
SUMMARY:Cedarcrest Select Basketball
DESCRIPTION:
URL:https://carnationptsa.org/event/cedarcrest-select-basketball-66/
LOCATION:GYM
END:VEVENT
BEGIN:VEVENT
DTSTART;TZID=America/Los_Angeles:20260324T080000
DTEND;TZID=America/Los_Angeles:20260324T083000
DTSTAMP:20260420T203111
CREATED:20250911T032123Z
LAST-MODIFIED:20250922T043604Z
UID:16903-1774339200-1774341000@carnationptsa.org
SUMMARY:Orlov Chess Club- PTSA
DESCRIPTION:
URL:https://carnationptsa.org/event/orlov-chess-club-ptsa-25/
LOCATION:MPR
END:VEVENT
BEGIN:VEVENT
DTSTART;TZID=America/Los_Angeles:20260324T143000
DTEND;TZID=America/Los_Angeles:20260324T150000
DTSTAMP:20260420T203111
CREATED:20250625T222304Z
LAST-MODIFIED:20250910T032117Z
UID:16034-1774362600-1774364400@carnationptsa.org
SUMMARY:Valley View Volleyball
DESCRIPTION:
URL:https://carnationptsa.org/event/valley-view-volleyball-36/
LOCATION:CE Gym
END:VEVENT
BEGIN:VEVENT
DTSTART;TZID=America/Los_Angeles:20260324T173000
DTEND;TZID=America/Los_Angeles:20260324T210000
DTSTAMP:20260420T203111
CREATED:20250911T032123Z
LAST-MODIFIED:20250922T043604Z
UID:16904-1774373400-1774386000@carnationptsa.org
SUMMARY:Valley View Volleyball
DESCRIPTION:
URL:https://carnationptsa.org/event/valley-view-volleyball-88/
LOCATION:CE Gym
END:VEVENT
BEGIN:VEVENT
DTSTART;TZID=America/Los_Angeles:20260325T080000
DTEND;TZID=America/Los_Angeles:20260325T090000
DTSTAMP:20260420T203111
CREATED:20250911T032123Z
LAST-MODIFIED:20250922T043604Z
UID:16905-1774425600-1774429200@carnationptsa.org
SUMMARY:PTSA-Ash Art
DESCRIPTION:
URL:https://carnationptsa.org/event/ptsa-ash-art-25/
LOCATION:pottable 4
END:VEVENT
BEGIN:VEVENT
DTSTART;TZID=America/Los_Angeles:20260325T160000
DTEND;TZID=America/Los_Angeles:20260325T164500
DTSTAMP:20260420T203111
CREATED:20250919T043656Z
LAST-MODIFIED:20250922T043604Z
UID:17233-1774454400-1774457100@carnationptsa.org
SUMMARY:Ignite Dance Group
DESCRIPTION:
URL:https://carnationptsa.org/event/ignite-dance-group-26/
LOCATION:GYM
END:VEVENT
BEGIN:VEVENT
DTSTART;TZID=America/Los_Angeles:20260326T080000
DTEND;TZID=America/Los_Angeles:20260326T091500
DTSTAMP:20260420T203111
CREATED:20250911T032124Z
LAST-MODIFIED:20250922T043604Z
UID:16906-1774512000-1774516500@carnationptsa.org
SUMMARY:Theater Club PTSA -little hands on art
DESCRIPTION:
URL:https://carnationptsa.org/event/theater-club-ptsa-little-hands-on-art-20/
LOCATION:MPR
END:VEVENT
BEGIN:VEVENT
DTSTART;TZID=America/Los_Angeles:20260326T143000
DTEND;TZID=America/Los_Angeles:20260326T150000
DTSTAMP:20260420T203111
CREATED:20250625T222304Z
LAST-MODIFIED:20250910T032117Z
UID:16035-1774535400-1774537200@carnationptsa.org
SUMMARY:Valley View Volleyball
DESCRIPTION:
URL:https://carnationptsa.org/event/valley-view-volleyball-37/
LOCATION:CE Gym
END:VEVENT
BEGIN:VEVENT
DTSTART;TZID=America/Los_Angeles:20260326T173000
DTEND;TZID=America/Los_Angeles:20260326T210000
DTSTAMP:20260420T203111
CREATED:20250911T032124Z
LAST-MODIFIED:20250917T042107Z
UID:16909-1774546200-1774558800@carnationptsa.org
SUMMARY:Valley View Volleyball
DESCRIPTION:
URL:https://carnationptsa.org/event/valley-view-volleyball-89/
LOCATION:CE Gym
END:VEVENT
BEGIN:VEVENT
DTSTART;TZID=America/Los_Angeles:20260326T180000
DTEND;TZID=America/Los_Angeles:20260326T190000
DTSTAMP:20260420T203111
CREATED:20250925T045055Z
LAST-MODIFIED:20260225T123627Z
UID:17351-1774548000-1774551600@carnationptsa.org
SUMMARY:2nd Grade Music Concert (MPR)
DESCRIPTION:
URL:https://carnationptsa.org/event/2nd-grade-music-concert-mpr/
END:VEVENT
BEGIN:VEVENT
DTSTART;TZID=America/Los_Angeles:20260326T183000
DTEND;TZID=America/Los_Angeles:20260326T203000
DTSTAMP:20260420T203111
CREATED:20250911T032124Z
LAST-MODIFIED:20260226T123630Z
UID:16908-1774549800-1774557000@carnationptsa.org
SUMMARY:Small Hands on Art - Theater Group
DESCRIPTION:
URL:https://carnationptsa.org/event/small-hands-on-art-theater-group-4/
LOCATION:portable 4
END:VEVENT
BEGIN:VEVENT
DTSTART;TZID=America/Los_Angeles:20260326T190000
DTEND;TZID=America/Los_Angeles:20260326T200000
DTSTAMP:20260420T203111
CREATED:20250925T045055Z
LAST-MODIFIED:20260225T123628Z
UID:17352-1774551600-1774555200@carnationptsa.org
SUMMARY:3rd Grade Music Concert (MPR)
DESCRIPTION:
URL:https://carnationptsa.org/event/3rd-grade-music-concert-mpr/
END:VEVENT
BEGIN:VEVENT
DTSTART;TZID=America/Los_Angeles:20260330T160500
DTEND;TZID=America/Los_Angeles:20260330T170500
DTSTAMP:20260420T203111
CREATED:20250830T023619Z
LAST-MODIFIED:20260330T143716Z
UID:16551-1774886700-1774890300@carnationptsa.org
SUMMARY:SBC Meeting
DESCRIPTION:
URL:https://carnationptsa.org/event/sbc-meeting-6/
END:VEVENT
BEGIN:VEVENT
DTSTART;TZID=America/Los_Angeles:20260331T080000
DTEND;TZID=America/Los_Angeles:20260331T083000
DTSTAMP:20260420T203111
CREATED:20250911T032124Z
LAST-MODIFIED:20250917T042107Z
UID:16910-1774944000-1774945800@carnationptsa.org
SUMMARY:Orlov Chess Club- PTSA
DESCRIPTION:
URL:https://carnationptsa.org/event/orlov-chess-club-ptsa-26/
LOCATION:MPR
END:VEVENT
END:VCALENDAR