BEGIN:VCALENDAR
VERSION:2.0
PRODID:-//Carnation Elementary PTSA - ECPv6.14.0//NONSGML v1.0//EN
CALSCALE:GREGORIAN
METHOD:PUBLISH
X-ORIGINAL-URL:https://carnationptsa.org
X-WR-CALDESC:Events for Carnation Elementary PTSA
REFRESH-INTERVAL;VALUE=DURATION:PT1H
X-Robots-Tag:noindex
X-PUBLISHED-TTL:PT1H
BEGIN:VTIMEZONE
TZID:America/Los_Angeles
BEGIN:DAYLIGHT
TZOFFSETFROM:-0800
TZOFFSETTO:-0700
TZNAME:PDT
DTSTART:20260308T100000
END:DAYLIGHT
BEGIN:STANDARD
TZOFFSETFROM:-0700
TZOFFSETTO:-0800
TZNAME:PST
DTSTART:20261101T090000
END:STANDARD
END:VTIMEZONE
BEGIN:VEVENT
DTSTART;TZID=America/Los_Angeles:20260324T173000
DTEND;TZID=America/Los_Angeles:20260324T210000
DTSTAMP:20260420T115311
CREATED:20250911T032123Z
LAST-MODIFIED:20250922T043604Z
UID:16904-1774373400-1774386000@carnationptsa.org
SUMMARY:Valley View Volleyball
DESCRIPTION:
URL:https://carnationptsa.org/event/valley-view-volleyball-88/
LOCATION:CE Gym
END:VEVENT
BEGIN:VEVENT
DTSTART;TZID=America/Los_Angeles:20260325T080000
DTEND;TZID=America/Los_Angeles:20260325T090000
DTSTAMP:20260420T115311
CREATED:20250911T032123Z
LAST-MODIFIED:20250922T043604Z
UID:16905-1774425600-1774429200@carnationptsa.org
SUMMARY:PTSA-Ash Art
DESCRIPTION:
URL:https://carnationptsa.org/event/ptsa-ash-art-25/
LOCATION:pottable 4
END:VEVENT
BEGIN:VEVENT
DTSTART;TZID=America/Los_Angeles:20260325T160000
DTEND;TZID=America/Los_Angeles:20260325T164500
DTSTAMP:20260420T115311
CREATED:20250919T043656Z
LAST-MODIFIED:20250922T043604Z
UID:17233-1774454400-1774457100@carnationptsa.org
SUMMARY:Ignite Dance Group
DESCRIPTION:
URL:https://carnationptsa.org/event/ignite-dance-group-26/
LOCATION:GYM
END:VEVENT
BEGIN:VEVENT
DTSTART;TZID=America/Los_Angeles:20260326T080000
DTEND;TZID=America/Los_Angeles:20260326T091500
DTSTAMP:20260420T115311
CREATED:20250911T032124Z
LAST-MODIFIED:20250922T043604Z
UID:16906-1774512000-1774516500@carnationptsa.org
SUMMARY:Theater Club PTSA -little hands on art
DESCRIPTION:
URL:https://carnationptsa.org/event/theater-club-ptsa-little-hands-on-art-20/
LOCATION:MPR
END:VEVENT
BEGIN:VEVENT
DTSTART;TZID=America/Los_Angeles:20260326T143000
DTEND;TZID=America/Los_Angeles:20260326T150000
DTSTAMP:20260420T115311
CREATED:20250625T222304Z
LAST-MODIFIED:20250910T032117Z
UID:16035-1774535400-1774537200@carnationptsa.org
SUMMARY:Valley View Volleyball
DESCRIPTION:
URL:https://carnationptsa.org/event/valley-view-volleyball-37/
LOCATION:CE Gym
END:VEVENT
BEGIN:VEVENT
DTSTART;TZID=America/Los_Angeles:20260326T173000
DTEND;TZID=America/Los_Angeles:20260326T210000
DTSTAMP:20260420T115311
CREATED:20250911T032124Z
LAST-MODIFIED:20250917T042107Z
UID:16909-1774546200-1774558800@carnationptsa.org
SUMMARY:Valley View Volleyball
DESCRIPTION:
URL:https://carnationptsa.org/event/valley-view-volleyball-89/
LOCATION:CE Gym
END:VEVENT
BEGIN:VEVENT
DTSTART;TZID=America/Los_Angeles:20260326T180000
DTEND;TZID=America/Los_Angeles:20260326T190000
DTSTAMP:20260420T115311
CREATED:20250925T045055Z
LAST-MODIFIED:20260225T123627Z
UID:17351-1774548000-1774551600@carnationptsa.org
SUMMARY:2nd Grade Music Concert (MPR)
DESCRIPTION:
URL:https://carnationptsa.org/event/2nd-grade-music-concert-mpr/
END:VEVENT
BEGIN:VEVENT
DTSTART;TZID=America/Los_Angeles:20260326T183000
DTEND;TZID=America/Los_Angeles:20260326T203000
DTSTAMP:20260420T115311
CREATED:20250911T032124Z
LAST-MODIFIED:20260226T123630Z
UID:16908-1774549800-1774557000@carnationptsa.org
SUMMARY:Small Hands on Art - Theater Group
DESCRIPTION:
URL:https://carnationptsa.org/event/small-hands-on-art-theater-group-4/
LOCATION:portable 4
END:VEVENT
BEGIN:VEVENT
DTSTART;TZID=America/Los_Angeles:20260326T190000
DTEND;TZID=America/Los_Angeles:20260326T200000
DTSTAMP:20260420T115311
CREATED:20250925T045055Z
LAST-MODIFIED:20260225T123628Z
UID:17352-1774551600-1774555200@carnationptsa.org
SUMMARY:3rd Grade Music Concert (MPR)
DESCRIPTION:
URL:https://carnationptsa.org/event/3rd-grade-music-concert-mpr/
END:VEVENT
BEGIN:VEVENT
DTSTART;TZID=America/Los_Angeles:20260330T160500
DTEND;TZID=America/Los_Angeles:20260330T170500
DTSTAMP:20260420T115311
CREATED:20250830T023619Z
LAST-MODIFIED:20260330T143716Z
UID:16551-1774886700-1774890300@carnationptsa.org
SUMMARY:SBC Meeting
DESCRIPTION:
URL:https://carnationptsa.org/event/sbc-meeting-6/
END:VEVENT
BEGIN:VEVENT
DTSTART;TZID=America/Los_Angeles:20260331T080000
DTEND;TZID=America/Los_Angeles:20260331T083000
DTSTAMP:20260420T115311
CREATED:20250911T032124Z
LAST-MODIFIED:20250917T042107Z
UID:16910-1774944000-1774945800@carnationptsa.org
SUMMARY:Orlov Chess Club- PTSA
DESCRIPTION:
URL:https://carnationptsa.org/event/orlov-chess-club-ptsa-26/
LOCATION:MPR
END:VEVENT
BEGIN:VEVENT
DTSTART;TZID=America/Los_Angeles:20260331T143000
DTEND;TZID=America/Los_Angeles:20260331T150000
DTSTAMP:20260420T115311
CREATED:20250625T222305Z
LAST-MODIFIED:20250910T032118Z
UID:16036-1774967400-1774969200@carnationptsa.org
SUMMARY:Valley View Volleyball
DESCRIPTION:
URL:https://carnationptsa.org/event/valley-view-volleyball-38/
LOCATION:CE Gym
END:VEVENT
BEGIN:VEVENT
DTSTART;TZID=America/Los_Angeles:20260331T173000
DTEND;TZID=America/Los_Angeles:20260331T210000
DTSTAMP:20260420T115311
CREATED:20250911T032124Z
LAST-MODIFIED:20250917T042107Z
UID:16911-1774978200-1774990800@carnationptsa.org
SUMMARY:Valley View Volleyball
DESCRIPTION:
URL:https://carnationptsa.org/event/valley-view-volleyball-90/
LOCATION:CE Gym
END:VEVENT
BEGIN:VEVENT
DTSTART;TZID=America/Los_Angeles:20260401T080000
DTEND;TZID=America/Los_Angeles:20260401T090000
DTSTAMP:20260420T115311
CREATED:20250911T032124Z
LAST-MODIFIED:20250917T042107Z
UID:16912-1775030400-1775034000@carnationptsa.org
SUMMARY:PTSA-Ash Art
DESCRIPTION:
URL:https://carnationptsa.org/event/ptsa-ash-art-26/
LOCATION:pottable 4
END:VEVENT
BEGIN:VEVENT
DTSTART;TZID=America/Los_Angeles:20260402T143000
DTEND;TZID=America/Los_Angeles:20260402T150000
DTSTAMP:20260420T115311
CREATED:20250625T222305Z
LAST-MODIFIED:20250910T032118Z
UID:16037-1775140200-1775142000@carnationptsa.org
SUMMARY:Valley View Volleyball
DESCRIPTION:
URL:https://carnationptsa.org/event/valley-view-volleyball-39/
LOCATION:CE Gym
END:VEVENT
BEGIN:VEVENT
DTSTART;TZID=America/Los_Angeles:20260402T173000
DTEND;TZID=America/Los_Angeles:20260402T183000
DTSTAMP:20260420T115311
CREATED:20260225T123628Z
LAST-MODIFIED:20260402T145342Z
UID:18801-1775151000-1775154600@carnationptsa.org
SUMMARY:Incoming Kindergarten Information Night
DESCRIPTION:
URL:https://carnationptsa.org/event/incoming-kindergarten-information-night/
LOCATION:library
END:VEVENT
BEGIN:VEVENT
DTSTART;TZID=America/Los_Angeles:20260402T173000
DTEND;TZID=America/Los_Angeles:20260402T210000
DTSTAMP:20260420T115311
CREATED:20250911T032124Z
LAST-MODIFIED:20250917T042107Z
UID:16913-1775151000-1775163600@carnationptsa.org
SUMMARY:Valley View Volleyball
DESCRIPTION:
URL:https://carnationptsa.org/event/valley-view-volleyball-91/
LOCATION:CE Gym
END:VEVENT
BEGIN:VEVENT
DTSTART;TZID=America/Los_Angeles:20260403T095000
DTEND;TZID=America/Los_Angeles:20260403T102000
DTSTAMP:20260420T115311
CREATED:20250617T180646Z
LAST-MODIFIED:20250625T222305Z
UID:15863-1775209800-1775211600@carnationptsa.org
SUMMARY:Choir Rehearsal (4th/5th grade)
DESCRIPTION:I will add a list of participating students once I receive all sign-up forms on Oct. 2nd.\nChoir Calendar:\nOctober 4\nOctober 18\nNovember 1\nNovember 15\nDecember 6\nDecember 20\nJanuary 17 (only 1 rehearsal in January)\nFebruary 7\nFebruary 21\nMarch 7\nMarch 21\nApril 4\nApril 18\nMay 2\nMay 16\nMay 30 (3 rehearsals in May\, 5th Friday)\nJune 6
URL:https://carnationptsa.org/event/choir-rehearsal-4th-5th-grade-10/
LOCATION:Room 147
END:VEVENT
BEGIN:VEVENT
DTSTART;VALUE=DATE:20260410
DTEND;VALUE=DATE:20260411
DTSTAMP:20260420T115311
CREATED:20250823T013908Z
LAST-MODIFIED:20260410T153542Z
UID:16460-1775779200-1775865599@carnationptsa.org
SUMMARY:SPRING BREAK
DESCRIPTION:
URL:https://carnationptsa.org/event/spring-break-16/
END:VEVENT
BEGIN:VEVENT
DTSTART;TZID=America/Los_Angeles:20260414T080000
DTEND;TZID=America/Los_Angeles:20260414T083000
DTSTAMP:20260420T115311
CREATED:20250911T032125Z
LAST-MODIFIED:20250917T042107Z
UID:16914-1776153600-1776155400@carnationptsa.org
SUMMARY:Orlov Chess Club- PTSA
DESCRIPTION:
URL:https://carnationptsa.org/event/orlov-chess-club-ptsa-27/
LOCATION:MPR
END:VEVENT
BEGIN:VEVENT
DTSTART;TZID=America/Los_Angeles:20260414T123500
DTEND;TZID=America/Los_Angeles:20260414T131500
DTSTAMP:20260420T115311
CREATED:20250617T180646Z
LAST-MODIFIED:20250625T222305Z
UID:15864-1776170100-1776172500@carnationptsa.org
SUMMARY:Yearbook Club
DESCRIPTION:
URL:https://carnationptsa.org/event/yearbook-club-10/
END:VEVENT
BEGIN:VEVENT
DTSTART;TZID=America/Los_Angeles:20260414T143000
DTEND;TZID=America/Los_Angeles:20260414T150000
DTSTAMP:20260420T115311
CREATED:20250625T222305Z
LAST-MODIFIED:20250910T032118Z
UID:16038-1776177000-1776178800@carnationptsa.org
SUMMARY:Valley View Volleyball
DESCRIPTION:
URL:https://carnationptsa.org/event/valley-view-volleyball-40/
LOCATION:CE Gym
END:VEVENT
BEGIN:VEVENT
DTSTART;TZID=America/Los_Angeles:20260414T173000
DTEND;TZID=America/Los_Angeles:20260414T210000
DTSTAMP:20260420T115311
CREATED:20250911T032125Z
LAST-MODIFIED:20250917T042107Z
UID:16915-1776187800-1776200400@carnationptsa.org
SUMMARY:Valley View Volleyball
DESCRIPTION:
URL:https://carnationptsa.org/event/valley-view-volleyball-92/
LOCATION:CE Gym
END:VEVENT
BEGIN:VEVENT
DTSTART;TZID=America/Los_Angeles:20260415T080000
DTEND;TZID=America/Los_Angeles:20260415T090000
DTSTAMP:20260420T115311
CREATED:20250911T032125Z
LAST-MODIFIED:20250917T042107Z
UID:16916-1776240000-1776243600@carnationptsa.org
SUMMARY:PTSA-Ash Art
DESCRIPTION:
URL:https://carnationptsa.org/event/ptsa-ash-art-27/
LOCATION:pottable 4
END:VEVENT
BEGIN:VEVENT
DTSTART;TZID=America/Los_Angeles:20260416T143000
DTEND;TZID=America/Los_Angeles:20260416T150000
DTSTAMP:20260420T115311
CREATED:20250625T222305Z
LAST-MODIFIED:20250910T032118Z
UID:16039-1776349800-1776351600@carnationptsa.org
SUMMARY:Valley View Volleyball
DESCRIPTION:
URL:https://carnationptsa.org/event/valley-view-volleyball-41/
LOCATION:CE Gym
END:VEVENT
BEGIN:VEVENT
DTSTART;TZID=America/Los_Angeles:20260416T173000
DTEND;TZID=America/Los_Angeles:20260416T210000
DTSTAMP:20260420T115311
CREATED:20250911T032125Z
LAST-MODIFIED:20250917T042107Z
UID:16917-1776360600-1776373200@carnationptsa.org
SUMMARY:Valley View Volleyball
DESCRIPTION:
URL:https://carnationptsa.org/event/valley-view-volleyball-93/
LOCATION:CE Gym
END:VEVENT
BEGIN:VEVENT
DTSTART;VALUE=DATE:20260417
DTEND;VALUE=DATE:20260418
DTSTAMP:20260420T115311
CREATED:20250823T013908Z
LAST-MODIFIED:20260417T163656Z
UID:16461-1776384000-1776470399@carnationptsa.org
SUMMARY:PTSA Popcorn Friday
DESCRIPTION:
URL:https://carnationptsa.org/event/ptsa-popcorn-friday-8/
END:VEVENT
BEGIN:VEVENT
DTSTART;VALUE=DATE:20260417
DTEND;VALUE=DATE:20260418
DTSTAMP:20260420T115311
CREATED:20250823T013908Z
LAST-MODIFIED:20260417T163656Z
UID:16462-1776384000-1776470399@carnationptsa.org
SUMMARY:Early Release- Building Directed
DESCRIPTION:
URL:https://carnationptsa.org/event/early-release-building-directed-8/
END:VEVENT
BEGIN:VEVENT
DTSTART;TZID=America/Los_Angeles:20260421T080000
DTEND;TZID=America/Los_Angeles:20260421T083000
DTSTAMP:20260420T115311
CREATED:20250911T032125Z
LAST-MODIFIED:20250917T042108Z
UID:16918-1776758400-1776760200@carnationptsa.org
SUMMARY:Orlov Chess Club- PTSA
DESCRIPTION:
URL:https://carnationptsa.org/event/orlov-chess-club-ptsa-28/
LOCATION:MPR
END:VEVENT
BEGIN:VEVENT
DTSTART;TZID=America/Los_Angeles:20260421T143000
DTEND;TZID=America/Los_Angeles:20260421T150000
DTSTAMP:20260420T115311
CREATED:20250625T222305Z
LAST-MODIFIED:20250910T032118Z
UID:16040-1776781800-1776783600@carnationptsa.org
SUMMARY:Valley View Volleyball
DESCRIPTION:
URL:https://carnationptsa.org/event/valley-view-volleyball-42/
LOCATION:CE Gym
END:VEVENT
END:VCALENDAR