BEGIN:VCALENDAR
VERSION:2.0
PRODID:-//Carnation Elementary PTSA - ECPv6.14.0//NONSGML v1.0//EN
CALSCALE:GREGORIAN
METHOD:PUBLISH
X-WR-CALNAME:Carnation Elementary PTSA
X-ORIGINAL-URL:https://carnationptsa.org
X-WR-CALDESC:Events for Carnation Elementary PTSA
REFRESH-INTERVAL;VALUE=DURATION:PT1H
X-Robots-Tag:noindex
X-PUBLISHED-TTL:PT1H
BEGIN:VTIMEZONE
TZID:America/Los_Angeles
BEGIN:DAYLIGHT
TZOFFSETFROM:-0800
TZOFFSETTO:-0700
TZNAME:PDT
DTSTART:20260308T100000
END:DAYLIGHT
BEGIN:STANDARD
TZOFFSETFROM:-0700
TZOFFSETTO:-0800
TZNAME:PST
DTSTART:20261101T090000
END:STANDARD
END:VTIMEZONE
BEGIN:VEVENT
DTSTART;TZID=America/Los_Angeles:20260127T143000
DTEND;TZID=America/Los_Angeles:20260127T150000
DTSTAMP:20260419T212000
CREATED:20250625T222303Z
LAST-MODIFIED:20250910T032115Z
UID:16018-1769524200-1769526000@carnationptsa.org
SUMMARY:Valley View Volleyball
DESCRIPTION:
URL:https://carnationptsa.org/event/valley-view-volleyball-20/
LOCATION:CE Gym
END:VEVENT
BEGIN:VEVENT
DTSTART;TZID=America/Los_Angeles:20260127T173000
DTEND;TZID=America/Los_Angeles:20260127T210000
DTSTAMP:20260419T212000
CREATED:20250911T032114Z
LAST-MODIFIED:20250922T043556Z
UID:16835-1769535000-1769547600@carnationptsa.org
SUMMARY:Valley View Volleyball
DESCRIPTION:
URL:https://carnationptsa.org/event/valley-view-volleyball-72/
LOCATION:CE Gym
END:VEVENT
BEGIN:VEVENT
DTSTART;TZID=America/Los_Angeles:20260128T080000
DTEND;TZID=America/Los_Angeles:20260128T090000
DTSTAMP:20260419T212000
CREATED:20250911T032114Z
LAST-MODIFIED:20250922T043556Z
UID:16836-1769587200-1769590800@carnationptsa.org
SUMMARY:PTSA-Ash Art
DESCRIPTION:
URL:https://carnationptsa.org/event/ptsa-ash-art-17/
LOCATION:pottable 4
END:VEVENT
BEGIN:VEVENT
DTSTART;TZID=America/Los_Angeles:20260128T160000
DTEND;TZID=America/Los_Angeles:20260128T164500
DTSTAMP:20260419T212000
CREATED:20250919T043648Z
LAST-MODIFIED:20250922T043556Z
UID:17224-1769616000-1769618700@carnationptsa.org
SUMMARY:Ignite Dance Group
DESCRIPTION:
URL:https://carnationptsa.org/event/ignite-dance-group-18/
LOCATION:GYM
END:VEVENT
BEGIN:VEVENT
DTSTART;TZID=America/Los_Angeles:20260128T173000
DTEND;TZID=America/Los_Angeles:20260128T210000
DTSTAMP:20260419T212000
CREATED:20250911T032114Z
LAST-MODIFIED:20250922T043556Z
UID:16837-1769621400-1769634000@carnationptsa.org
SUMMARY:Cedarcrest Select Basketball
DESCRIPTION:
URL:https://carnationptsa.org/event/cedarcrest-select-basketball-45/
LOCATION:GYM
END:VEVENT
BEGIN:VEVENT
DTSTART;TZID=America/Los_Angeles:20260129T080000
DTEND;TZID=America/Los_Angeles:20260129T091500
DTSTAMP:20260419T212000
CREATED:20250911T032114Z
LAST-MODIFIED:20250922T043556Z
UID:16838-1769673600-1769678100@carnationptsa.org
SUMMARY:Theater Club PTSA -little hands on art
DESCRIPTION:
URL:https://carnationptsa.org/event/theater-club-ptsa-little-hands-on-art-14/
LOCATION:MPR
END:VEVENT
BEGIN:VEVENT
DTSTART;TZID=America/Los_Angeles:20260129T110000
DTEND;TZID=America/Los_Angeles:20260129T123000
DTSTAMP:20260419T212000
CREATED:20260122T105110Z
LAST-MODIFIED:20260129T112050Z
UID:18513-1769684400-1769689800@carnationptsa.org
SUMMARY:Learning Walks
DESCRIPTION:Upcoming Dates:\n  *   January 21 | 11:00–12:30 p.m.\n  *   January 28 | 11:00–12:30 p.m.
URL:https://carnationptsa.org/event/learning-walks/
END:VEVENT
BEGIN:VEVENT
DTSTART;TZID=America/Los_Angeles:20260129T143000
DTEND;TZID=America/Los_Angeles:20260129T150000
DTSTAMP:20260419T212000
CREATED:20250625T222303Z
LAST-MODIFIED:20250910T032115Z
UID:16019-1769697000-1769698800@carnationptsa.org
SUMMARY:Valley View Volleyball
DESCRIPTION:
URL:https://carnationptsa.org/event/valley-view-volleyball-21/
LOCATION:CE Gym
END:VEVENT
BEGIN:VEVENT
DTSTART;TZID=America/Los_Angeles:20260129T173000
DTEND;TZID=America/Los_Angeles:20260129T210000
DTSTAMP:20260419T212000
CREATED:20250911T032114Z
LAST-MODIFIED:20250922T043556Z
UID:16839-1769707800-1769720400@carnationptsa.org
SUMMARY:Valley View Volleyball
DESCRIPTION:
URL:https://carnationptsa.org/event/valley-view-volleyball-73/
LOCATION:CE Gym
END:VEVENT
BEGIN:VEVENT
DTSTART;TZID=America/Los_Angeles:20260130T173000
DTEND;TZID=America/Los_Angeles:20260130T210000
DTSTAMP:20260419T212000
CREATED:20250911T032114Z
LAST-MODIFIED:20250922T043556Z
UID:16840-1769794200-1769806800@carnationptsa.org
SUMMARY:Cedarcrest Select Basketball
DESCRIPTION:
URL:https://carnationptsa.org/event/cedarcrest-select-basketball-46/
LOCATION:GYM
END:VEVENT
BEGIN:VEVENT
DTSTART;TZID=America/Los_Angeles:20260130T180000
DTEND;TZID=America/Los_Angeles:20260130T210000
DTSTAMP:20260419T212000
CREATED:20251119T073638Z
LAST-MODIFIED:20260130T112048Z
UID:17859-1769796000-1769806800@carnationptsa.org
SUMMARY:Reflections District Gala
DESCRIPTION:
URL:https://carnationptsa.org/event/reflections-district-gala/
LOCATION:Riverview School District (15510 1st Ave NE\, Duvall\, WA\, United States)
END:VEVENT
BEGIN:VEVENT
DTSTART;TZID=America/Los_Angeles:20260202T160500
DTEND;TZID=America/Los_Angeles:20260202T170500
DTSTAMP:20260419T212000
CREATED:20250830T023616Z
LAST-MODIFIED:20260202T113659Z
UID:16549-1770048300-1770051900@carnationptsa.org
SUMMARY:SBC Meeting
DESCRIPTION:
URL:https://carnationptsa.org/event/sbc-meeting-4/
END:VEVENT
BEGIN:VEVENT
DTSTART;TZID=America/Los_Angeles:20260202T160500
DTEND;TZID=America/Los_Angeles:20260202T170500
DTSTAMP:20260419T212000
CREATED:20260128T110613Z
LAST-MODIFIED:20260202T113659Z
UID:18575-1770048300-1770051900@carnationptsa.org
SUMMARY:SBC Meeting
DESCRIPTION:
URL:https://carnationptsa.org/event/sbc-meeting-17/
END:VEVENT
BEGIN:VEVENT
DTSTART;TZID=America/Los_Angeles:20260202T160500
DTEND;TZID=America/Los_Angeles:20260202T170500
DTSTAMP:20260419T212000
CREATED:20260128T110613Z
LAST-MODIFIED:20260128T110613Z
UID:18576-1770048300-1770051900@carnationptsa.org
SUMMARY:SBC Meeting
DESCRIPTION:
URL:https://carnationptsa.org/event/sbc-meeting-18/
END:VEVENT
BEGIN:VEVENT
DTSTART;TZID=America/Los_Angeles:20260202T173000
DTEND;TZID=America/Los_Angeles:20260202T210000
DTSTAMP:20260419T212000
CREATED:20250911T032114Z
LAST-MODIFIED:20250922T043556Z
UID:16841-1770053400-1770066000@carnationptsa.org
SUMMARY:Cedarcrest Select Basketball
DESCRIPTION:
URL:https://carnationptsa.org/event/cedarcrest-select-basketball-47/
LOCATION:GYM
END:VEVENT
BEGIN:VEVENT
DTSTART;TZID=America/Los_Angeles:20260203T080000
DTEND;TZID=America/Los_Angeles:20260203T083000
DTSTAMP:20260419T212000
CREATED:20250911T032114Z
LAST-MODIFIED:20250922T043556Z
UID:16842-1770105600-1770107400@carnationptsa.org
SUMMARY:Orlov Chess Club- PTSA
DESCRIPTION:
URL:https://carnationptsa.org/event/orlov-chess-club-ptsa-18/
LOCATION:MPR
END:VEVENT
BEGIN:VEVENT
DTSTART;TZID=America/Los_Angeles:20260203T143000
DTEND;TZID=America/Los_Angeles:20260203T150000
DTSTAMP:20260419T212000
CREATED:20250625T222303Z
LAST-MODIFIED:20250910T032116Z
UID:16020-1770129000-1770130800@carnationptsa.org
SUMMARY:Valley View Volleyball
DESCRIPTION:
URL:https://carnationptsa.org/event/valley-view-volleyball-22/
LOCATION:CE Gym
END:VEVENT
BEGIN:VEVENT
DTSTART;TZID=America/Los_Angeles:20260203T173000
DTEND;TZID=America/Los_Angeles:20260203T210000
DTSTAMP:20260419T212000
CREATED:20250911T032115Z
LAST-MODIFIED:20250922T043557Z
UID:16843-1770139800-1770152400@carnationptsa.org
SUMMARY:Valley View Volleyball
DESCRIPTION:
URL:https://carnationptsa.org/event/valley-view-volleyball-74/
LOCATION:CE Gym
END:VEVENT
BEGIN:VEVENT
DTSTART;TZID=America/Los_Angeles:20260204T080000
DTEND;TZID=America/Los_Angeles:20260204T090000
DTSTAMP:20260419T212000
CREATED:20250911T032115Z
LAST-MODIFIED:20250922T043557Z
UID:16844-1770192000-1770195600@carnationptsa.org
SUMMARY:PTSA-Ash Art
DESCRIPTION:
URL:https://carnationptsa.org/event/ptsa-ash-art-18/
LOCATION:pottable 4
END:VEVENT
BEGIN:VEVENT
DTSTART;TZID=America/Los_Angeles:20260204T160000
DTEND;TZID=America/Los_Angeles:20260204T164500
DTSTAMP:20260419T212000
CREATED:20250919T043649Z
LAST-MODIFIED:20250922T043557Z
UID:17225-1770220800-1770223500@carnationptsa.org
SUMMARY:Ignite Dance Group
DESCRIPTION:
URL:https://carnationptsa.org/event/ignite-dance-group-19/
LOCATION:GYM
END:VEVENT
BEGIN:VEVENT
DTSTART;TZID=America/Los_Angeles:20260204T173000
DTEND;TZID=America/Los_Angeles:20260204T210000
DTSTAMP:20260419T212000
CREATED:20250911T032115Z
LAST-MODIFIED:20250922T043557Z
UID:16847-1770226200-1770238800@carnationptsa.org
SUMMARY:Cedarcrest Select Basketball
DESCRIPTION:
URL:https://carnationptsa.org/event/cedarcrest-select-basketball-48/
LOCATION:GYM
END:VEVENT
BEGIN:VEVENT
DTSTART;TZID=America/Los_Angeles:20260205T080000
DTEND;TZID=America/Los_Angeles:20260205T091500
DTSTAMP:20260419T212000
CREATED:20250911T032115Z
LAST-MODIFIED:20250922T043557Z
UID:16849-1770278400-1770282900@carnationptsa.org
SUMMARY:Theater Club PTSA -little hands on art
DESCRIPTION:
URL:https://carnationptsa.org/event/theater-club-ptsa-little-hands-on-art-15/
LOCATION:MPR
END:VEVENT
BEGIN:VEVENT
DTSTART;TZID=America/Los_Angeles:20260205T143000
DTEND;TZID=America/Los_Angeles:20260205T150000
DTSTAMP:20260419T212000
CREATED:20250625T222303Z
LAST-MODIFIED:20250910T032116Z
UID:16021-1770301800-1770303600@carnationptsa.org
SUMMARY:Valley View Volleyball
DESCRIPTION:
URL:https://carnationptsa.org/event/valley-view-volleyball-23/
LOCATION:CE Gym
END:VEVENT
BEGIN:VEVENT
DTSTART;TZID=America/Los_Angeles:20260205T173000
DTEND;TZID=America/Los_Angeles:20260205T210000
DTSTAMP:20260419T212000
CREATED:20250911T032115Z
LAST-MODIFIED:20250922T043557Z
UID:16856-1770312600-1770325200@carnationptsa.org
SUMMARY:Valley View Volleyball
DESCRIPTION:
URL:https://carnationptsa.org/event/valley-view-volleyball-75/
LOCATION:CE Gym
END:VEVENT
BEGIN:VEVENT
DTSTART;TZID=America/Los_Angeles:20260205T183000
DTEND;TZID=America/Los_Angeles:20260205T190000
DTSTAMP:20260419T212000
CREATED:20250911T032115Z
LAST-MODIFIED:20260205T115121Z
UID:16854-1770316200-1770318000@carnationptsa.org
SUMMARY:Small Hands on Art - Theater Group
DESCRIPTION:
URL:https://carnationptsa.org/event/small-hands-on-art-theater-group-3/
LOCATION:portable 4
END:VEVENT
BEGIN:VEVENT
DTSTART;TZID=America/Los_Angeles:20260206T095000
DTEND;TZID=America/Los_Angeles:20260206T102000
DTSTAMP:20260419T212000
CREATED:20250617T180646Z
LAST-MODIFIED:20250625T222303Z
UID:15859-1770371400-1770373200@carnationptsa.org
SUMMARY:Choir Rehearsal (4th/5th grade)
DESCRIPTION:I will add a list of participating students once I receive all sign-up forms on Oct. 2nd.\nChoir Calendar:\nOctober 4\nOctober 18\nNovember 1\nNovember 15\nDecember 6\nDecember 20\nJanuary 17 (only 1 rehearsal in January)\nFebruary 7\nFebruary 21\nMarch 7\nMarch 21\nApril 4\nApril 18\nMay 2\nMay 16\nMay 30 (3 rehearsals in May\, 5th Friday)\nJune 6
URL:https://carnationptsa.org/event/choir-rehearsal-4th-5th-grade-8/
LOCATION:Room 147
END:VEVENT
BEGIN:VEVENT
DTSTART;TZID=America/Los_Angeles:20260206T173000
DTEND;TZID=America/Los_Angeles:20260206T210000
DTSTAMP:20260419T212000
CREATED:20250911T032115Z
LAST-MODIFIED:20250922T043557Z
UID:16857-1770399000-1770411600@carnationptsa.org
SUMMARY:Cedarcrest Select Basketball
DESCRIPTION:
URL:https://carnationptsa.org/event/cedarcrest-select-basketball-49/
LOCATION:GYM
END:VEVENT
BEGIN:VEVENT
DTSTART;TZID=America/Los_Angeles:20260209T173000
DTEND;TZID=America/Los_Angeles:20260209T210000
DTSTAMP:20260419T212000
CREATED:20250911T032115Z
LAST-MODIFIED:20250922T043557Z
UID:16858-1770658200-1770670800@carnationptsa.org
SUMMARY:Cedarcrest Select Basketball
DESCRIPTION:
URL:https://carnationptsa.org/event/cedarcrest-select-basketball-50/
LOCATION:GYM
END:VEVENT
BEGIN:VEVENT
DTSTART;TZID=America/Los_Angeles:20260210T080000
DTEND;TZID=America/Los_Angeles:20260210T083000
DTSTAMP:20260419T212000
CREATED:20250911T032116Z
LAST-MODIFIED:20250922T043557Z
UID:16859-1770710400-1770712200@carnationptsa.org
SUMMARY:Orlov Chess Club- PTSA
DESCRIPTION:
URL:https://carnationptsa.org/event/orlov-chess-club-ptsa-19/
LOCATION:MPR
END:VEVENT
BEGIN:VEVENT
DTSTART;TZID=America/Los_Angeles:20260210T123500
DTEND;TZID=America/Los_Angeles:20260210T131500
DTSTAMP:20260419T212000
CREATED:20250617T180646Z
LAST-MODIFIED:20250625T222303Z
UID:15860-1770726900-1770729300@carnationptsa.org
SUMMARY:Yearbook Club
DESCRIPTION:
URL:https://carnationptsa.org/event/yearbook-club-8/
END:VEVENT
END:VCALENDAR