BEGIN:VCALENDAR
VERSION:2.0
PRODID:-//Carnation Elementary PTSA - ECPv6.14.0//NONSGML v1.0//EN
CALSCALE:GREGORIAN
METHOD:PUBLISH
X-WR-CALNAME:Carnation Elementary PTSA
X-ORIGINAL-URL:https://carnationptsa.org
X-WR-CALDESC:Events for Carnation Elementary PTSA
REFRESH-INTERVAL;VALUE=DURATION:PT1H
X-Robots-Tag:noindex
X-PUBLISHED-TTL:PT1H
BEGIN:VTIMEZONE
TZID:America/Los_Angeles
BEGIN:DAYLIGHT
TZOFFSETFROM:-0800
TZOFFSETTO:-0700
TZNAME:PDT
DTSTART:20250309T100000
END:DAYLIGHT
BEGIN:STANDARD
TZOFFSETFROM:-0700
TZOFFSETTO:-0800
TZNAME:PST
DTSTART:20251102T090000
END:STANDARD
BEGIN:DAYLIGHT
TZOFFSETFROM:-0800
TZOFFSETTO:-0700
TZNAME:PDT
DTSTART:20260308T100000
END:DAYLIGHT
BEGIN:STANDARD
TZOFFSETFROM:-0700
TZOFFSETTO:-0800
TZNAME:PST
DTSTART:20261101T090000
END:STANDARD
END:VTIMEZONE
BEGIN:VEVENT
DTSTART;TZID=America/Los_Angeles:20251224T160000
DTEND;TZID=America/Los_Angeles:20251224T164500
DTSTAMP:20260419T131803
CREATED:20250919T043645Z
LAST-MODIFIED:20250922T043553Z
UID:17219-1766592000-1766594700@carnationptsa.org
SUMMARY:Ignite Dance Group
DESCRIPTION:
URL:https://carnationptsa.org/event/ignite-dance-group-13/
LOCATION:GYM
END:VEVENT
BEGIN:VEVENT
DTSTART;VALUE=DATE:20251225
DTEND;VALUE=DATE:20251226
DTSTAMP:20260419T131803
CREATED:20250923T043706Z
LAST-MODIFIED:20251225T092053Z
UID:17294-1766620800-1766707199@carnationptsa.org
SUMMARY:Winter Break
DESCRIPTION:
URL:https://carnationptsa.org/event/winter-break-35/
END:VEVENT
BEGIN:VEVENT
DTSTART;VALUE=DATE:20251226
DTEND;VALUE=DATE:20251227
DTSTAMP:20260419T131803
CREATED:20250923T043707Z
LAST-MODIFIED:20251226T092117Z
UID:17296-1766707200-1766793599@carnationptsa.org
SUMMARY:Winter Break
DESCRIPTION:
URL:https://carnationptsa.org/event/winter-break-37/
END:VEVENT
BEGIN:VEVENT
DTSTART;VALUE=DATE:20251229
DTEND;VALUE=DATE:20251230
DTSTAMP:20260419T131803
CREATED:20250923T043707Z
LAST-MODIFIED:20251229T093541Z
UID:17297-1766966400-1767052799@carnationptsa.org
SUMMARY:Winter Break
DESCRIPTION:
URL:https://carnationptsa.org/event/winter-break-38/
END:VEVENT
BEGIN:VEVENT
DTSTART;VALUE=DATE:20251230
DTEND;VALUE=DATE:20251231
DTSTAMP:20260419T131803
CREATED:20250923T043707Z
LAST-MODIFIED:20251230T093552Z
UID:17298-1767052800-1767139199@carnationptsa.org
SUMMARY:Winter Break
DESCRIPTION:
URL:https://carnationptsa.org/event/winter-break-39/
END:VEVENT
BEGIN:VEVENT
DTSTART;VALUE=DATE:20251231
DTEND;VALUE=DATE:20260101
DTSTAMP:20260419T131803
CREATED:20250923T043707Z
LAST-MODIFIED:20251231T093549Z
UID:17299-1767139200-1767225599@carnationptsa.org
SUMMARY:Winter Break
DESCRIPTION:
URL:https://carnationptsa.org/event/winter-break-40/
END:VEVENT
BEGIN:VEVENT
DTSTART;TZID=America/Los_Angeles:20251231T160000
DTEND;TZID=America/Los_Angeles:20251231T164500
DTSTAMP:20260419T131803
CREATED:20250919T043645Z
LAST-MODIFIED:20250922T043553Z
UID:17220-1767196800-1767199500@carnationptsa.org
SUMMARY:Ignite Dance Group
DESCRIPTION:
URL:https://carnationptsa.org/event/ignite-dance-group-14/
LOCATION:GYM
END:VEVENT
BEGIN:VEVENT
DTSTART;VALUE=DATE:20260101
DTEND;VALUE=DATE:20260102
DTSTAMP:20260419T131803
CREATED:20250923T043707Z
LAST-MODIFIED:20260101T095043Z
UID:17300-1767225600-1767311999@carnationptsa.org
SUMMARY:Winter Break
DESCRIPTION:
URL:https://carnationptsa.org/event/winter-break-41/
END:VEVENT
BEGIN:VEVENT
DTSTART;VALUE=DATE:20260102
DTEND;VALUE=DATE:20260103
DTSTAMP:20260419T131803
CREATED:20250923T043707Z
LAST-MODIFIED:20260102T095142Z
UID:17301-1767312000-1767398399@carnationptsa.org
SUMMARY:Winter Break
DESCRIPTION:
URL:https://carnationptsa.org/event/winter-break-42/
END:VEVENT
BEGIN:VEVENT
DTSTART;TZID=America/Los_Angeles:20260102T095000
DTEND;TZID=America/Los_Angeles:20260102T102000
DTSTAMP:20260419T131803
CREATED:20250617T180646Z
LAST-MODIFIED:20250624T222209Z
UID:15857-1767347400-1767349200@carnationptsa.org
SUMMARY:Choir Rehearsal (4th/5th grade)
DESCRIPTION:I will add a list of participating students once I receive all sign-up forms on Oct. 2nd.\nChoir Calendar:\nOctober 4\nOctober 18\nNovember 1\nNovember 15\nDecember 6\nDecember 20\nJanuary 17 (only 1 rehearsal in January)\nFebruary 7\nFebruary 21\nMarch 7\nMarch 21\nApril 4\nApril 18\nMay 2\nMay 16\nMay 30 (3 rehearsals in May\, 5th Friday)\nJune 6
URL:https://carnationptsa.org/event/choir-rehearsal-4th-5th-grade-7/
LOCATION:Room 147
END:VEVENT
BEGIN:VEVENT
DTSTART;TZID=America/Los_Angeles:20260105T173000
DTEND;TZID=America/Los_Angeles:20260105T210000
DTSTAMP:20260419T131803
CREATED:20250911T032111Z
LAST-MODIFIED:20250922T043553Z
UID:16810-1767634200-1767646800@carnationptsa.org
SUMMARY:Cedarcrest Select Basketball
DESCRIPTION:
URL:https://carnationptsa.org/event/cedarcrest-select-basketball-36/
LOCATION:GYM
END:VEVENT
BEGIN:VEVENT
DTSTART;TZID=America/Los_Angeles:20260106T080000
DTEND;TZID=America/Los_Angeles:20260106T083000
DTSTAMP:20260419T131803
CREATED:20250911T032111Z
LAST-MODIFIED:20250922T043553Z
UID:16811-1767686400-1767688200@carnationptsa.org
SUMMARY:Orlov Chess Club- PTSA
DESCRIPTION:
URL:https://carnationptsa.org/event/orlov-chess-club-ptsa-14/
LOCATION:MPR
END:VEVENT
BEGIN:VEVENT
DTSTART;TZID=America/Los_Angeles:20260106T143000
DTEND;TZID=America/Los_Angeles:20260106T150000
DTSTAMP:20260419T131803
CREATED:20250625T222302Z
LAST-MODIFIED:20250910T032114Z
UID:16012-1767709800-1767711600@carnationptsa.org
SUMMARY:Valley View Volleyball
DESCRIPTION:
URL:https://carnationptsa.org/event/valley-view-volleyball-14/
LOCATION:CE Gym
END:VEVENT
BEGIN:VEVENT
DTSTART;TZID=America/Los_Angeles:20260106T173000
DTEND;TZID=America/Los_Angeles:20260106T210000
DTSTAMP:20260419T131803
CREATED:20250911T032111Z
LAST-MODIFIED:20250922T043553Z
UID:16812-1767720600-1767733200@carnationptsa.org
SUMMARY:Valley View Volleyball
DESCRIPTION:
URL:https://carnationptsa.org/event/valley-view-volleyball-66/
LOCATION:CE Gym
END:VEVENT
BEGIN:VEVENT
DTSTART;TZID=America/Los_Angeles:20260107T080000
DTEND;TZID=America/Los_Angeles:20260107T090000
DTSTAMP:20260419T131803
CREATED:20250911T032111Z
LAST-MODIFIED:20250922T043554Z
UID:16813-1767772800-1767776400@carnationptsa.org
SUMMARY:PTSA-Ash Art
DESCRIPTION:
URL:https://carnationptsa.org/event/ptsa-ash-art-14/
LOCATION:pottable 4
END:VEVENT
BEGIN:VEVENT
DTSTART;TZID=America/Los_Angeles:20260107T093500
DTEND;TZID=America/Los_Angeles:20260107T102000
DTSTAMP:20260419T131803
CREATED:20251118T073554Z
LAST-MODIFIED:20260107T102046Z
UID:17828-1767778500-1767781200@carnationptsa.org
SUMMARY:PTSA Assembly No Bullies Allowed Magician
DESCRIPTION:K-2nd Grade
URL:https://carnationptsa.org/event/ptsa-assembly-no-bullies-allowed-magician/
LOCATION:MPR
END:VEVENT
BEGIN:VEVENT
DTSTART;TZID=America/Los_Angeles:20260107T103000
DTEND;TZID=America/Los_Angeles:20260107T111500
DTSTAMP:20260419T131803
CREATED:20251118T073554Z
LAST-MODIFIED:20260107T102046Z
UID:17829-1767781800-1767784500@carnationptsa.org
SUMMARY:PTSA Assembly No Bullies Allowed Magician
DESCRIPTION:3rd-5th grade
URL:https://carnationptsa.org/event/ptsa-assembly-no-bullies-allowed-magician-2/
LOCATION:MPR
END:VEVENT
BEGIN:VEVENT
DTSTART;TZID=America/Los_Angeles:20260107T160000
DTEND;TZID=America/Los_Angeles:20260107T164500
DTSTAMP:20260419T131803
CREATED:20250919T043646Z
LAST-MODIFIED:20250922T043554Z
UID:17221-1767801600-1767804300@carnationptsa.org
SUMMARY:Ignite Dance Group
DESCRIPTION:
URL:https://carnationptsa.org/event/ignite-dance-group-15/
LOCATION:GYM
END:VEVENT
BEGIN:VEVENT
DTSTART;TZID=America/Los_Angeles:20260107T173000
DTEND;TZID=America/Los_Angeles:20260107T210000
DTSTAMP:20260419T131803
CREATED:20250911T032111Z
LAST-MODIFIED:20250922T043554Z
UID:16814-1767807000-1767819600@carnationptsa.org
SUMMARY:Cedarcrest Select Basketball
DESCRIPTION:
URL:https://carnationptsa.org/event/cedarcrest-select-basketball-37/
LOCATION:GYM
END:VEVENT
BEGIN:VEVENT
DTSTART;TZID=America/Los_Angeles:20260108T080000
DTEND;TZID=America/Los_Angeles:20260108T091500
DTSTAMP:20260419T131803
CREATED:20250911T032111Z
LAST-MODIFIED:20250922T043554Z
UID:16815-1767859200-1767863700@carnationptsa.org
SUMMARY:Theater Club PTSA -little hands on art
DESCRIPTION:
URL:https://carnationptsa.org/event/theater-club-ptsa-little-hands-on-art-11/
LOCATION:MPR
END:VEVENT
BEGIN:VEVENT
DTSTART;TZID=America/Los_Angeles:20260108T143000
DTEND;TZID=America/Los_Angeles:20260108T150000
DTSTAMP:20260419T131803
CREATED:20250625T222302Z
LAST-MODIFIED:20250910T032115Z
UID:16013-1767882600-1767884400@carnationptsa.org
SUMMARY:Valley View Volleyball
DESCRIPTION:
URL:https://carnationptsa.org/event/valley-view-volleyball-15/
LOCATION:CE Gym
END:VEVENT
BEGIN:VEVENT
DTSTART;TZID=America/Los_Angeles:20260108T173000
DTEND;TZID=America/Los_Angeles:20260108T210000
DTSTAMP:20260419T131803
CREATED:20250911T032111Z
LAST-MODIFIED:20250922T043554Z
UID:16816-1767893400-1767906000@carnationptsa.org
SUMMARY:Valley View Volleyball
DESCRIPTION:
URL:https://carnationptsa.org/event/valley-view-volleyball-67/
LOCATION:CE Gym
END:VEVENT
BEGIN:VEVENT
DTSTART;TZID=America/Los_Angeles:20260109T173000
DTEND;TZID=America/Los_Angeles:20260109T210000
DTSTAMP:20260419T131803
CREATED:20250911T032111Z
LAST-MODIFIED:20250922T043554Z
UID:16817-1767979800-1767992400@carnationptsa.org
SUMMARY:Cedarcrest Select Basketball
DESCRIPTION:
URL:https://carnationptsa.org/event/cedarcrest-select-basketball-38/
LOCATION:GYM
END:VEVENT
BEGIN:VEVENT
DTSTART;TZID=America/Los_Angeles:20260112T160500
DTEND;TZID=America/Los_Angeles:20260112T170500
DTSTAMP:20260419T131803
CREATED:20250830T023616Z
LAST-MODIFIED:20260112T102042Z
UID:16548-1768233900-1768237500@carnationptsa.org
SUMMARY:SBC Meeting
DESCRIPTION:
URL:https://carnationptsa.org/event/sbc-meeting-3/
LOCATION:CE\, Room 112
END:VEVENT
BEGIN:VEVENT
DTSTART;TZID=America/Los_Angeles:20260112T173000
DTEND;TZID=America/Los_Angeles:20260112T210000
DTSTAMP:20260419T131803
CREATED:20250911T032112Z
LAST-MODIFIED:20250922T043554Z
UID:16818-1768239000-1768251600@carnationptsa.org
SUMMARY:Cedarcrest Select Basketball
DESCRIPTION:
URL:https://carnationptsa.org/event/cedarcrest-select-basketball-39/
LOCATION:GYM
END:VEVENT
BEGIN:VEVENT
DTSTART;TZID=America/Los_Angeles:20260113T080000
DTEND;TZID=America/Los_Angeles:20260113T083000
DTSTAMP:20260419T131803
CREATED:20250911T032112Z
LAST-MODIFIED:20250922T043554Z
UID:16819-1768291200-1768293000@carnationptsa.org
SUMMARY:Orlov Chess Club- PTSA
DESCRIPTION:
URL:https://carnationptsa.org/event/orlov-chess-club-ptsa-15/
LOCATION:MPR
END:VEVENT
BEGIN:VEVENT
DTSTART;TZID=America/Los_Angeles:20260113T123500
DTEND;TZID=America/Los_Angeles:20260113T131500
DTSTAMP:20260419T131803
CREATED:20250617T180646Z
LAST-MODIFIED:20250625T222302Z
UID:15858-1768307700-1768310100@carnationptsa.org
SUMMARY:Yearbook Club
DESCRIPTION:
URL:https://carnationptsa.org/event/yearbook-club-7/
END:VEVENT
BEGIN:VEVENT
DTSTART;TZID=America/Los_Angeles:20260113T143000
DTEND;TZID=America/Los_Angeles:20260113T150000
DTSTAMP:20260419T131803
CREATED:20250625T222302Z
LAST-MODIFIED:20250910T032115Z
UID:16014-1768314600-1768316400@carnationptsa.org
SUMMARY:Valley View Volleyball
DESCRIPTION:
URL:https://carnationptsa.org/event/valley-view-volleyball-16/
LOCATION:CE Gym
END:VEVENT
BEGIN:VEVENT
DTSTART;TZID=America/Los_Angeles:20260113T173000
DTEND;TZID=America/Los_Angeles:20260113T210000
DTSTAMP:20260419T131803
CREATED:20250911T032112Z
LAST-MODIFIED:20250922T043554Z
UID:16820-1768325400-1768338000@carnationptsa.org
SUMMARY:Valley View Volleyball
DESCRIPTION:
URL:https://carnationptsa.org/event/valley-view-volleyball-68/
LOCATION:CE Gym
END:VEVENT
BEGIN:VEVENT
DTSTART;TZID=America/Los_Angeles:20260114T080000
DTEND;TZID=America/Los_Angeles:20260114T090000
DTSTAMP:20260419T131803
CREATED:20250911T032112Z
LAST-MODIFIED:20250922T043554Z
UID:16821-1768377600-1768381200@carnationptsa.org
SUMMARY:PTSA-Ash Art
DESCRIPTION:
URL:https://carnationptsa.org/event/ptsa-ash-art-15/
LOCATION:pottable 4
END:VEVENT
END:VCALENDAR