BEGIN:VCALENDAR
VERSION:2.0
PRODID:-//Carnation Elementary PTSA - ECPv6.14.0//NONSGML v1.0//EN
CALSCALE:GREGORIAN
METHOD:PUBLISH
X-WR-CALNAME:Carnation Elementary PTSA
X-ORIGINAL-URL:https://carnationptsa.org
X-WR-CALDESC:Events for Carnation Elementary PTSA
REFRESH-INTERVAL;VALUE=DURATION:PT1H
X-Robots-Tag:noindex
X-PUBLISHED-TTL:PT1H
BEGIN:VTIMEZONE
TZID:America/Los_Angeles
BEGIN:DAYLIGHT
TZOFFSETFROM:-0800
TZOFFSETTO:-0700
TZNAME:PDT
DTSTART:20260308T100000
END:DAYLIGHT
BEGIN:STANDARD
TZOFFSETFROM:-0700
TZOFFSETTO:-0800
TZNAME:PST
DTSTART:20261101T090000
END:STANDARD
END:VTIMEZONE
BEGIN:VEVENT
DTSTART;TZID=America/Los_Angeles:20260423T080000
DTEND;TZID=America/Los_Angeles:20260423T091500
DTSTAMP:20260423T171835
CREATED:20250913T035124Z
LAST-MODIFIED:20250917T042108Z
UID:17137-1776931200-1776935700@carnationptsa.org
SUMMARY:Theater Club PTSA -little hands on art
DESCRIPTION:
URL:https://carnationptsa.org/event/theater-club-ptsa-little-hands-on-art-21/
LOCATION:MPR
END:VEVENT
BEGIN:VEVENT
DTSTART;TZID=America/Los_Angeles:20260423T143000
DTEND;TZID=America/Los_Angeles:20260423T150000
DTSTAMP:20260423T171835
CREATED:20250625T222305Z
LAST-MODIFIED:20250910T032118Z
UID:16041-1776954600-1776956400@carnationptsa.org
SUMMARY:Valley View Volleyball
DESCRIPTION:
URL:https://carnationptsa.org/event/valley-view-volleyball-43/
LOCATION:CE Gym
END:VEVENT
END:VCALENDAR